BEGIN:VCALENDAR
VERSION:2.0
PRODID:-//Citizen Potawatomi Community Development Corporation - ECPv6.14.2//NONSGML v1.0//EN
CALSCALE:GREGORIAN
METHOD:PUBLISH
X-WR-CALNAME:Citizen Potawatomi Community Development Corporation
X-ORIGINAL-URL:https://cpcdc.org
X-WR-CALDESC:Events for Citizen Potawatomi Community Development Corporation
REFRESH-INTERVAL;VALUE=DURATION:PT1H
X-Robots-Tag:noindex
X-PUBLISHED-TTL:PT1H
BEGIN:VTIMEZONE
TZID:America/Chicago
BEGIN:DAYLIGHT
TZOFFSETFROM:-0500
TZOFFSETTO:-0500
TZNAME:CDT
DTSTART:20240101T000000
END:DAYLIGHT
END:VTIMEZONE
BEGIN:VEVENT
DTSTART;TZID=America/Chicago:20241204T110000
DTEND;TZID=America/Chicago:20241204T120000
DTSTAMP:20260419T164400
CREATED:20241113T150031Z
LAST-MODIFIED:20241113T150031Z
UID:4518-1733310000-1733313600@cpcdc.org
SUMMARY:Reach Customers Online
DESCRIPTION:This is a collaboration between OKSBDC and our professional partners at Google. In this comprehensive workshop\, we’ll explain the inner workings of Google Search and guide you through enhancing your website’s visibility using Search Engine Optimization (SEO) techniques. Additionally\, the session will introduce you to essential tools such as Google Business Profile\, Google Trends\, Search Console\, and Google Ads\, among others. Equip yourself with the knowledge to leverage these platforms effectively\, ensuring your business stands out in the digital landscape. In this workshop we’ll discuss best practices for: Improving your website’s visibility in Google’s organic search results\, on all devices Creating a free Google Business Profile Advertising your business on Google \nSpeaker(s): Maria Elena Duron Grow with Google Trainer/Digital Coach \nCo-Sponsor(s): \nReasonable accommodations for persons with disabilities will be made if requested at least two weeks in advance. Language assistance services are available for limited English proficient individuals with appropriate advance notice. Please contact OKSBDC Training Manager Cindy Ruminer by email at cindy.ruminer@oksbdc.org or call 580-745-2877.
URL:https://cpcdc.org/event/reach-customers-online
LOCATION:ONLINE
END:VEVENT
END:VCALENDAR