BEGIN:VCALENDAR
VERSION:2.0
PRODID:-//Citizen Potawatomi Community Development Corporation - ECPv6.14.2//NONSGML v1.0//EN
CALSCALE:GREGORIAN
METHOD:PUBLISH
X-WR-CALNAME:Citizen Potawatomi Community Development Corporation
X-ORIGINAL-URL:https://cpcdc.org
X-WR-CALDESC:Events for Citizen Potawatomi Community Development Corporation
REFRESH-INTERVAL;VALUE=DURATION:PT1H
X-Robots-Tag:noindex
X-PUBLISHED-TTL:PT1H
BEGIN:VTIMEZONE
TZID:America/Chicago
BEGIN:DAYLIGHT
TZOFFSETFROM:-0500
TZOFFSETTO:-0500
TZNAME:CDT
DTSTART:20240101T000000
END:DAYLIGHT
END:VTIMEZONE
BEGIN:VEVENT
DTSTART;TZID=America/Chicago:20241205T113000
DTEND;TZID=America/Chicago:20241205T123000
DTSTAMP:20260420T080221
CREATED:20241113T150215Z
LAST-MODIFIED:20241113T150215Z
UID:4520-1733398200-1733401800@cpcdc.org
SUMMARY:Let's Discuss BOI: Beneficial Ownership Information
DESCRIPTION:Join us for an insightful event where we’ll shed light on the upcoming requirements for U.S. companies regarding beneficial ownership reporting. Starting January 1\, 2024\, many companies will have to report information about their beneficial owners\, i.e.\, the individuals who ultimately own or control the company. They will have to report the information to Financial Crimes Enforcement Network (FinCEN)\, a branch of the U.S. Department of the Treasury. We’ll provide a overview and guide attendees on where to access essential resources for compliance. \nSpeaker(s): Dana Hugle\, OKSBDC Assistant State Director of Performance and Operations \nCo-Sponsor(s): \nReasonable accommodations for persons with disabilities will be made if requested at least two weeks in advance. Language assistance services are available for limited English proficient individuals with appropriate advance notice. Please contact OKSBDC Training Manager Cindy Ruminer by email at cindy.ruminer@oksbdc.org or call 580-745-2877. All SBDC programs and services are extended to the public on a non-discriminatory basis. “Funded in part through a Cooperative Agreement with the U.S. Small Business Administration. All opinions\, conclusions\, and/or recommendations expressed herein are those of the author(s) and do not necessarily reflect the views of the SBA.”
URL:https://cpcdc.org/event/lets-discuss-boi-beneficial-ownership-information-7
LOCATION:ONLINE
END:VEVENT
END:VCALENDAR