BEGIN:VCALENDAR
VERSION:2.0
PRODID:-//Citizen Potawatomi Community Development Corporation - ECPv6.14.2//NONSGML v1.0//EN
CALSCALE:GREGORIAN
METHOD:PUBLISH
X-ORIGINAL-URL:https://cpcdc.org
X-WR-CALDESC:Events for Citizen Potawatomi Community Development Corporation
REFRESH-INTERVAL;VALUE=DURATION:PT1H
X-Robots-Tag:noindex
X-PUBLISHED-TTL:PT1H
BEGIN:VTIMEZONE
TZID:America/Chicago
BEGIN:DAYLIGHT
TZOFFSETFROM:-0500
TZOFFSETTO:-0500
TZNAME:CDT
DTSTART:20250101T000000
END:DAYLIGHT
END:VTIMEZONE
BEGIN:VEVENT
DTSTART;TZID=America/Chicago:20250221T100000
DTEND;TZID=America/Chicago:20250221T110000
DTSTAMP:20260420T063854
CREATED:20250214T170926Z
LAST-MODIFIED:20250214T170926Z
UID:4709-1740132000-1740135600@cpcdc.org
SUMMARY:10 Common Marketing Mistakes to Avoid by Victoria Byrne
DESCRIPTION:A good marketing plan can help launch a new business or grow an existing one\, however common marketing mistakes can quickly derail your best efforts. \nWhy not learn from other marketers’ mistakes rather than making your own? Join us to learn the 10 all-too-common marketing mistakes businesses of all size make and how to avoid them in order to maximize your sales and marketing initiatives. \n·     10 common marketing mistakes and how to avoid the \n·     How to prioritize your marketing efforts \n·     How to build a solid foundation for your business by having a well-defined target audience \n·     Optimizing your website for your target audience and how to motivate them to take action
URL:https://cpcdc.org/event/10-common-marketing-mistakes-to-avoid-by-victoria-byrne
LOCATION:ONLINE
END:VEVENT
END:VCALENDAR