BEGIN:VCALENDAR
VERSION:2.0
PRODID:-//Citizen Potawatomi Community Development Corporation - ECPv6.14.2//NONSGML v1.0//EN
CALSCALE:GREGORIAN
METHOD:PUBLISH
X-WR-CALNAME:Citizen Potawatomi Community Development Corporation
X-ORIGINAL-URL:https://cpcdc.org
X-WR-CALDESC:Events for Citizen Potawatomi Community Development Corporation
REFRESH-INTERVAL;VALUE=DURATION:PT1H
X-Robots-Tag:noindex
X-PUBLISHED-TTL:PT1H
BEGIN:VTIMEZONE
TZID:America/Chicago
BEGIN:DAYLIGHT
TZOFFSETFROM:-0500
TZOFFSETTO:-0500
TZNAME:CDT
DTSTART:20250101T000000
END:DAYLIGHT
END:VTIMEZONE
BEGIN:VEVENT
DTSTART;TZID=America/Chicago:20250226T110000
DTEND;TZID=America/Chicago:20250226T120000
DTSTAMP:20260421T143404
CREATED:20250214T171323Z
LAST-MODIFIED:20250214T171323Z
UID:4713-1740567600-1740571200@cpcdc.org
SUMMARY:Creating Customer Personas
DESCRIPTION:Gain a deeper understanding of your audience with this hands-on training! Learn how to create detailed customer personas that help you connect with your ideal customers and tailor your business strategies to meet their needs. From identifying demographics and behaviors to uncovering motivations and pain points\, this course will guide you through every step of the process. Perfect for entrepreneurs\, small business owners\, and marketers\, you’ll leave with actionable insights and tools to attract and retain loyal customers while driving your business forward! \nPresenter: Lauren Denny\, KTC Digital Media Instructor \nThis training series is presented in partnership with the Oklahoma Commercialization Network\, powered by the Oklahoma Center for the Advancement of Science and Technology (OCAST). \nFunded in part through a cooperative agreement with the U.S. Small Business Administration. WBC programs and services are provided on a nondiscriminatory basis. Reasonable accommodations for persons with disabilities and language assistance services for clients with limited English proficiency will be provided if requested at least two weeks in advance. Contact REI WBC  at 800-658-2823.
URL:https://cpcdc.org/event/creating-customer-personas
LOCATION:ONLINE
END:VEVENT
BEGIN:VEVENT
DTSTART;TZID=America/Chicago:20250226T110000
DTEND;TZID=America/Chicago:20250226T123000
DTSTAMP:20260421T143404
CREATED:20241231T190440Z
LAST-MODIFIED:20241231T190440Z
UID:4562-1740567600-1740573000@cpcdc.org
SUMMARY:Financial Projections for your Business Plan and Beyond
DESCRIPTION:Topic: Cash Flow Management\n\nJoin us for an informative virtual workshop on the basics of financials and projections for small businesses. This session will cover essential topics such as understanding key financial statements\, cash flow management\, and how to create accurate financial projections that can guide your business planning and decision-making. Whether you’re just starting out or looking to improve your financial literacy\, this workshop will equip you with practical tools and insights to help you manage your business finances confidently and set realistic goals for future growth. \nSpeaker(s): Edward Dyer OKSBDC Business Advisor \nCo-Sponsor(s): \nReasonable accommodations for persons with disabilities will be made if requested at least two weeks in advance. Language assistance services are available for limited English proficient individuals with appropriate advance notice. Please contact OKSBDC Training Manager Cindy Ruminer by email at cindy.ruminer@oksbdc.org or call 580-745-2877. All SBDC programs and services are extended to the public on a non-discriminatory basis. “Funded in part through a Cooperative Agreement with the U.S. Small Business Administration. All opinions\, conclusions\, and/or recommendations expressed herein are those of the author(s) and do not necessarily reflect the views of the SBA.”
URL:https://cpcdc.org/event/financial-projections-for-your-business-plan-and-beyond-2
LOCATION:ONLINE
ORGANIZER;CN="OKSBDC":MAILTO:cindy.ruminer@oksbdc.org
END:VEVENT
END:VCALENDAR