BEGIN:VCALENDAR
VERSION:2.0
PRODID:-//Citizen Potawatomi Community Development Corporation - ECPv6.14.2//NONSGML v1.0//EN
CALSCALE:GREGORIAN
METHOD:PUBLISH
X-ORIGINAL-URL:https://cpcdc.org
X-WR-CALDESC:Events for Citizen Potawatomi Community Development Corporation
REFRESH-INTERVAL;VALUE=DURATION:PT1H
X-Robots-Tag:noindex
X-PUBLISHED-TTL:PT1H
BEGIN:VTIMEZONE
TZID:America/Chicago
BEGIN:DAYLIGHT
TZOFFSETFROM:-0500
TZOFFSETTO:-0500
TZNAME:CDT
DTSTART:20250101T000000
END:DAYLIGHT
END:VTIMEZONE
BEGIN:VEVENT
DTSTART;TZID=America/Chicago:20250507T110000
DTEND;TZID=America/Chicago:20250507T120000
DTSTAMP:20260420T230336
CREATED:20250422T184458Z
LAST-MODIFIED:20250422T184458Z
UID:4890-1746615600-1746619200@cpcdc.org
SUMMARY:Site Tweaks to Increase Reach
DESCRIPTION:When businesses build digital communications that allow people with disabilities to perceive\, understand\, navigate\, and interact with products and services\, it expands their market. Implementing accessibility best practices can help businesses grow\, and improve the experience for all users. In this session we’ll outline what accessibility means online. Learn how to design for accessibility: web pages\, email\, tips for being more inclusive as well as tips for physical spaces. \nSpeaker(s): Maria Elena Duron Google Expert Trainer \nReasonable accommodations for persons with disabilities will be made if requested at least two weeks in advance. Language assistance services are available for limited English proficient individuals with appropriate advance notice. Please contact OKSBDC Training Manager Cindy Ruminer by email at cindy.ruminer@oksbdc.org or call 580-745-2877. Funded in part through a Cooperative Agreement with the U.S. Small Business Administration. All opinions\, conclusions\, and/or recommendations expressed herein are those of the author(s) and do not necessarily reflect the views of the SBA.
URL:https://cpcdc.org/event/site-tweaks-to-increase-reach
LOCATION:ONLINE
END:VEVENT
END:VCALENDAR