BEGIN:VCALENDAR
VERSION:2.0
PRODID:-//Citizen Potawatomi Community Development Corporation - ECPv6.14.2//NONSGML v1.0//EN
CALSCALE:GREGORIAN
METHOD:PUBLISH
X-WR-CALNAME:Citizen Potawatomi Community Development Corporation
X-ORIGINAL-URL:https://cpcdc.org
X-WR-CALDESC:Events for Citizen Potawatomi Community Development Corporation
REFRESH-INTERVAL;VALUE=DURATION:PT1H
X-Robots-Tag:noindex
X-PUBLISHED-TTL:PT1H
BEGIN:VTIMEZONE
TZID:America/Chicago
BEGIN:DAYLIGHT
TZOFFSETFROM:-0500
TZOFFSETTO:-0500
TZNAME:CDT
DTSTART:20250101T000000
END:DAYLIGHT
END:VTIMEZONE
BEGIN:VEVENT
DTSTART;TZID=America/Chicago:20250521T110000
DTEND;TZID=America/Chicago:20250521T120000
DTSTAMP:20260419T090101
CREATED:20250520T152831Z
LAST-MODIFIED:20250520T153227Z
UID:4938-1747825200-1747828800@cpcdc.org
SUMMARY:Fund Your Business With Sponsors
DESCRIPTION:Linda Hollander can help you. She is the author of the #1 best-selling book\, Corporate Sponsorship in 3 Easy Steps and the CEO of Sponsor Concierge. \nLinda has consulted with many entrepreneurs to help them profit from the awesome power of corporate sponsors and has 20 years of experience in business. \nHer corporate sponsors have included Microsoft\, Wells Fargo\, Epson\, Citibank\, Fed Ex\, Health Net\, Southwest Airlines\, Bank of America\, Staples\, American Airlines\, Wal Mart and IBM. \nHere’s what you’ll discover: \n* How to identify your potential sponsors \n* How to attract your sponsors \n* The biggest mistakes most people make \n* Creating your sponsor proposal to get big bucks \n* Spotlighting your assets \n* Know how much money to ask for (Don’t sell yourself short) \n* Getting your sponsors to renew again and again \nWho Should Attend: \n* Speakers \n* Business Owners \n* Authors \n* Event Producers \n* Social Influencers \n* Non-Profit Charities \nThis presentation is only for people who want success now. Those afraid of rapid business growth need not apply.
URL:https://cpcdc.org/event/https-score-tfaforms-net-112eventida10vt000004uomv
LOCATION:ONLINE
END:VEVENT
BEGIN:VEVENT
DTSTART;TZID=America/Chicago:20250521T110000
DTEND;TZID=America/Chicago:20250521T120000
DTSTAMP:20260419T090101
CREATED:20250520T154954Z
LAST-MODIFIED:20250520T154954Z
UID:4953-1747825200-1747828800@cpcdc.org
SUMMARY:Fund Your Business With Sponsors
DESCRIPTION:Linda Hollander can help you. She is the author of the #1 best-selling book\, Corporate Sponsorship in 3 Easy Steps and the CEO of Sponsor Concierge. \nLinda has consulted with many entrepreneurs to help them profit from the awesome power of corporate sponsors and has 20 years of experience in business. \nHer corporate sponsors have included Microsoft\, Wells Fargo\, Epson\, Citibank\, Fed Ex\, Health Net\, Southwest Airlines\, Bank of America\, Staples\, American Airlines\, Wal Mart and IBM. \nHere’s what you’ll discover: \n* How to identify your potential sponsors \n* How to attract your sponsors \n* The biggest mistakes most people make \n* Creating your sponsor proposal to get big bucks \n* Spotlighting your assets \n* Know how much money to ask for (Don’t sell yourself short) \n* Getting your sponsors to renew again and again \nWho Should Attend: \n* Speakers \n* Business Owners \n* Authors \n* Event Producers \n* Social Influencers \n* Non-Profit Charities \nThis presentation is only for people who want success now. Those afraid of rapid business growth need not apply.
URL:https://cpcdc.org/event/fund-your-business-with-sponsors
LOCATION:ONLINE
END:VEVENT
BEGIN:VEVENT
DTSTART;TZID=America/Chicago:20250521T110000
DTEND;TZID=America/Chicago:20250521T123000
DTSTAMP:20260419T090101
CREATED:20250422T191823Z
LAST-MODIFIED:20250422T191823Z
UID:4900-1747825200-1747830600@cpcdc.org
SUMMARY:SBA Loan Programs: Are they right for you?
DESCRIPTION:This presentation is a collaboration between Oklahoma SBDC and our professional partners at Great Plains Bank. Whether you’re an existing small business owner or looking to start a business\, knowing your financial options and resources can prove to be invaluable. One option to consider is an SBA loan\, but with so many different loan programs available\, it can be overwhelming to figure out which one is the best fit for your business. In this virtual training\, we’ll dive into the different SBA loan programs available\, including the 7(a) Loan Program\, the CDC/504 Loan Program\, and the Microloan Program. We’ll provide an overview of each program\, as well as discussing the eligibility requirements\, application process\, and loan terms. This training will provide valuable insights to help you make an informed decision about SBA loan programs. We will have a Q&A session at the end of the presentation\, and attendees will receive a copy of the presentation. \nSpeaker(s): Hope Roberts\, SBA Lending Officer – Vice President Great Plains Bank Ben Evans\, OKSBDC Business Advisor \nCo-Sponsor(s): Great Plains Bank \nReasonable accommodations for persons with disabilities will be made if requested at least two weeks in advance. Language assistance services are available for limited English proficient individuals with appropriate advance notice. Please contact OKSBDC Training Manager Cindy Ruminer by email at cindy.ruminer@oksbdc.org or call 580-745-2877. All SBDC programs and services are extended to the public on a non-discriminatory basis. Funded in part through a Cooperative Agreement with the U.S. Small Business Administration. All opinions\, conclusions\, and/or recommendations expressed herein are those of the author(s) and do not necessarily reflect the views of the SBA.
URL:https://cpcdc.org/event/sba-loan-programs-are-they-right-for-you-2
LOCATION:ONLINE
END:VEVENT
BEGIN:VEVENT
DTSTART;TZID=America/Chicago:20250521T120000
DTEND;TZID=America/Chicago:20250521T130000
DTSTAMP:20260419T090101
CREATED:20250520T153000Z
LAST-MODIFIED:20250520T153000Z
UID:4940-1747828800-1747832400@cpcdc.org
SUMMARY:Secrets to Buying a Franchise
DESCRIPTION:This workshop will provide you with all the information you need to decide if owning a franchise is right for you\, and how to find the right one. Page Nicol is a seasoned franchise consultant and owner\, with over 30 years as a UPS Store multi unit owner\, developer\, and experienced consultant with FranNet. In this presentation you will learn.  \n* What are the pros and cons of owning a franchise? \n* What are the common myths about franchising? \n* What franchise concepts are working in today’s economy? \n* How can you safely find and research a franchise before making a decision? \n* How can you get financing to start your own business. 
URL:https://cpcdc.org/event/secrets-to-buying-a-franchise-3
LOCATION:ONLINE
END:VEVENT
END:VCALENDAR