BEGIN:VCALENDAR
VERSION:2.0
PRODID:-//Citizen Potawatomi Community Development Corporation - ECPv6.14.2//NONSGML v1.0//EN
CALSCALE:GREGORIAN
METHOD:PUBLISH
X-WR-CALNAME:Citizen Potawatomi Community Development Corporation
X-ORIGINAL-URL:https://cpcdc.org
X-WR-CALDESC:Events for Citizen Potawatomi Community Development Corporation
REFRESH-INTERVAL;VALUE=DURATION:PT1H
X-Robots-Tag:noindex
X-PUBLISHED-TTL:PT1H
BEGIN:VTIMEZONE
TZID:America/Chicago
BEGIN:DAYLIGHT
TZOFFSETFROM:-0500
TZOFFSETTO:-0500
TZNAME:CDT
DTSTART:20250101T000000
END:DAYLIGHT
END:VTIMEZONE
BEGIN:VEVENT
DTSTART;TZID=America/Chicago:20250527T100000
DTEND;TZID=America/Chicago:20250527T113000
DTSTAMP:20260419T164406
CREATED:20250520T153633Z
LAST-MODIFIED:20250520T153633Z
UID:4945-1748340000-1748345400@cpcdc.org
SUMMARY:How To Create Marketing Graphics Like A Rockstar With Canva
DESCRIPTION:No need to hire a graphic designer or invest in expensive software…Canva can help you create marketing graphics like a rockstar! This affordable program allows you to easily “drag and drop” images\, text and other elements to create online and offline marketing materials. We will show you how to incorporate your own images and fonts\, bring in animated elements and learn the latest cool effects include new AI tools\, to bring your marketing graphics to the next level!
URL:https://cpcdc.org/event/how-to-create-marketing-graphics-like-a-rockstar-with-canva
LOCATION:ONLINE
END:VEVENT
BEGIN:VEVENT
DTSTART;TZID=America/Chicago:20250527T120000
DTEND;TZID=America/Chicago:20250527T130000
DTSTAMP:20260419T164406
CREATED:20250520T154405Z
LAST-MODIFIED:20250520T154405Z
UID:4947-1748347200-1748350800@cpcdc.org
SUMMARY:What Every Business Owner Should Know About SEO
DESCRIPTION:Organic searches on Google yield the majority of traffic for websites and is a critical component of the buyer funnel. Ultimately\, getting users to convert from web traffic into an engagement is the goal. \n  \nConsidering the higher cost of White Hat SEO (using marketing techniques within Google’s terms of service)\, it is very crucial for business owners to understand if they are ready to implement a long-term marketing strategy. \n  \nIs your website ready for SEO? Are you a good candidate for search engine optimization? \nWith the always-changing search algorithm\, and the limited time business owners have\, it can be a challenge to stay on top of the changes that affect their online presence. \nKnowing the principals of SEO will help you understand the tactics being used by your competitors\, and how to measure the success of your SEO. \n  \nLearner outcomes include but are not limited to: \n\nUnderstanding how search engine ranking algorithms really work and to clear up any myths or confusion surrounding this process.\nLearning the parts of a website that search engines evaluate when determining the ordering of search results.\nKnowing the 5 most important factors Google uses to rank a website (there are over 200 factors)\nUnderstanding the difference between “White” and “Black Hat” SEO techniques.\nAvoiding the implementation of techniques that rank the site higher in short term but penalize it in years to come.\nEvaluating the Return on Investment (ROI)\nEstimating the cost of White Hat SEO\n\n8. Knowing practical techniques for your marketing that business owner can use to boost rankings without hiring SEO agencies.
URL:https://cpcdc.org/event/what-every-business-owner-should-know-about-seo-5
LOCATION:ONLINE
END:VEVENT
END:VCALENDAR