BEGIN:VCALENDAR
VERSION:2.0
PRODID:-//Citizen Potawatomi Community Development Corporation - ECPv6.14.2//NONSGML v1.0//EN
CALSCALE:GREGORIAN
METHOD:PUBLISH
X-WR-CALNAME:Citizen Potawatomi Community Development Corporation
X-ORIGINAL-URL:https://cpcdc.org
X-WR-CALDESC:Events for Citizen Potawatomi Community Development Corporation
REFRESH-INTERVAL;VALUE=DURATION:PT1H
X-Robots-Tag:noindex
X-PUBLISHED-TTL:PT1H
BEGIN:VTIMEZONE
TZID:America/Chicago
BEGIN:DAYLIGHT
TZOFFSETFROM:-0500
TZOFFSETTO:-0500
TZNAME:CDT
DTSTART:20250101T000000
END:DAYLIGHT
END:VTIMEZONE
BEGIN:VEVENT
DTSTART;TZID=America/Chicago:20250529T100000
DTEND;TZID=America/Chicago:20250529T110000
DTSTAMP:20260422T071832
CREATED:20250520T155500Z
LAST-MODIFIED:20250520T155500Z
UID:4955-1748512800-1748516400@cpcdc.org
SUMMARY:AI and Canva - Creative Content for Social Media
DESCRIPTION:Explore the potential of AI in enhancing your social media content. Join Roni Ramos as she delves into how artificial intelligence can automate and refine the creation of engaging text\, captivating visuals\, and personalized posts. Learn how to use AI tools to produce dynamic content that aims to connect with your audience. This webinar will introduce innovative techniques for crafting compelling narratives and visuals designed to catch the eye and encourage engagement. Suitable for marketers and content creators at any level of expertise\, this session helps you leverage the latest AI technology to enrich your social media strategy. \nThis webinar is not sponsored\, endorsed\, or administered by\, or associated with\, Canva.
URL:https://cpcdc.org/event/ai-and-canva-creative-content-for-social-media-3
LOCATION:ONLINE
END:VEVENT
BEGIN:VEVENT
DTSTART;TZID=America/Chicago:20250529T120000
DTEND;TZID=America/Chicago:20250529T130000
DTSTAMP:20260422T071832
CREATED:20250520T155701Z
LAST-MODIFIED:20250520T155701Z
UID:4957-1748520000-1748523600@cpcdc.org
SUMMARY:Preparing for Capital and Exploring Funding Options for Your Business
DESCRIPTION:Whether you’re a startup founder\, a growing business owner\, or simply exploring how to better position your company financially\, this session is designed to give you actionable insight into securing the right kind of funding to support your goals. \n  \nWe’ll begin by covering the fundamentals of understanding and preparing for capital\, followed by strategies for managing and approaching business debt effectively. We’ll also explore the current state of business lending—what’s changing\, what lenders are looking for\, and how to stay competitive in today’s market. 
URL:https://cpcdc.org/event/preparing-for-capital-and-exploring-funding-options-for-your-business
LOCATION:ONLINE
END:VEVENT
END:VCALENDAR