BEGIN:VCALENDAR
VERSION:2.0
PRODID:-//Citizen Potawatomi Community Development Corporation - ECPv6.14.2//NONSGML v1.0//EN
CALSCALE:GREGORIAN
METHOD:PUBLISH
X-WR-CALNAME:Citizen Potawatomi Community Development Corporation
X-ORIGINAL-URL:https://cpcdc.org
X-WR-CALDESC:Events for Citizen Potawatomi Community Development Corporation
REFRESH-INTERVAL;VALUE=DURATION:PT1H
X-Robots-Tag:noindex
X-PUBLISHED-TTL:PT1H
BEGIN:VTIMEZONE
TZID:America/Chicago
BEGIN:DAYLIGHT
TZOFFSETFROM:-0500
TZOFFSETTO:-0500
TZNAME:CDT
DTSTART:20250101T000000
END:DAYLIGHT
END:VTIMEZONE
BEGIN:VEVENT
DTSTART;TZID=America/Chicago:20250611T100000
DTEND;TZID=America/Chicago:20250611T110000
DTSTAMP:20260421T034917
CREATED:20250603T173345Z
LAST-MODIFIED:20250603T173345Z
UID:5021-1749636000-1749639600@cpcdc.org
SUMMARY:Linkedin Business Boost: Enhancing Visibility and Connections for Success
DESCRIPTION:Join us to discover strategic approaches to amplify your LinkedIn presence. This session\, led by Roni\, will provide practical insights into leveraging LinkedIn’s platform to enhance your business’s visibility and expand your professional network. Learn how to optimize your profile\, utilize LinkedIn’s advanced features for content sharing\, and engage effectively with your connections. Gain tips on using LinkedIn analytics to track engagement and refine your outreach strategies. This webinar is perfect for business owners\, marketers\, and professionals at any level of expertise who are looking to maximize their impact on LinkedIn and forge meaningful connections. \nThis webinar is not sponsored\, endorsed\, or administered by\, or associated with\, LinkedIn.
URL:https://cpcdc.org/event/linkedin-business-boost-enhancing-visibility-and-connections-for-success
LOCATION:ONLINE
END:VEVENT
BEGIN:VEVENT
DTSTART;TZID=America/Chicago:20250611T110000
DTEND;TZID=America/Chicago:20250611T120000
DTSTAMP:20260421T034917
CREATED:20250527T215400Z
LAST-MODIFIED:20250527T215400Z
UID:4986-1749639600-1749643200@cpcdc.org
SUMMARY:Increase Sales with Google Tools
DESCRIPTION:Learn how to promote your products online using Google tools. We’ll show how local brick-and-mortar businesses can list products on a Google Business Profile. We’ll also cover Google Merchant Center\, a no-cost tool that allows both e-commerce and brick-and-mortar businesses to create free Product Listings on Google. In this session we’ll show you how to: Highlight products on your Google Business Profile Use Pointy to promote in-store inventory with your point of sale system Use Google Merchant Center to showcase in-store and online product inventory \nSpeaker(s): Maria Elena Duron \nGoogle Expert Trainer \nAll SBDC programs and services are extended to the public on a non-discriminatory basis. “Funded in part through a Cooperative Agreement with the U.S. Small Business Administration. All opinions\, conclusions\, and/or recommendations expressed herein are those of the author(s) and do not necessarily reflect the views of the SBA.”
URL:https://cpcdc.org/event/increase-sales-with-google-tools-2
LOCATION:ONLINE
END:VEVENT
BEGIN:VEVENT
DTSTART;TZID=America/Chicago:20250611T130000
DTEND;TZID=America/Chicago:20250611T140000
DTSTAMP:20260421T034917
CREATED:20250603T172027Z
LAST-MODIFIED:20250603T172027Z
UID:5013-1749646800-1749650400@cpcdc.org
SUMMARY:Retirement Plans for Small Business Owners
DESCRIPTION:This workshop is to help small business owners design and set up the proper business retirement plans for themselves and their employees to achieve retirement saving goals. This can be part of your benefit packages you can offer to attract\, retain your key employees and be compatible among your peers.  \nYou will learn or check in the following areas: \n1.    General concepts for retirement planning \n2.    Type of IRAs business can set up \n3.     Type of defined contribution plans like 401k and 403b\, profit sharing\, safe harbor and solo 401k\, etc. \n4.    Type of Defined benefit plan like: cash balance pension plan 
URL:https://cpcdc.org/event/retirement-plans-for-small-business-owners-7
LOCATION:ONLINE
END:VEVENT
END:VCALENDAR