BEGIN:VCALENDAR
VERSION:2.0
PRODID:-//Citizen Potawatomi Community Development Corporation - ECPv6.14.2//NONSGML v1.0//EN
CALSCALE:GREGORIAN
METHOD:PUBLISH
X-WR-CALNAME:Citizen Potawatomi Community Development Corporation
X-ORIGINAL-URL:https://cpcdc.org
X-WR-CALDESC:Events for Citizen Potawatomi Community Development Corporation
REFRESH-INTERVAL;VALUE=DURATION:PT1H
X-Robots-Tag:noindex
X-PUBLISHED-TTL:PT1H
BEGIN:VTIMEZONE
TZID:America/Chicago
BEGIN:DAYLIGHT
TZOFFSETFROM:-0500
TZOFFSETTO:-0500
TZNAME:CDT
DTSTART:20250101T000000
END:DAYLIGHT
END:VTIMEZONE
BEGIN:VEVENT
DTSTART;TZID=America/Chicago:20250616T100000
DTEND;TZID=America/Chicago:20250616T110000
DTSTAMP:20260421T003630
CREATED:20250604T202610Z
LAST-MODIFIED:20250604T202610Z
UID:5040-1750068000-1750071600@cpcdc.org
SUMMARY:Financing a Business\, A Business Fundamentals Webinar
DESCRIPTION:During this webinar\, you will learn multiple ways of starting and financing a business. \nYou will learn the advantages and disadvantages of starting a business from scratch\, buying an existing business\, and franchising. You will learn different types of financing – owner\, debt\, grants\, and equity. You will learn the advantages and disadvantages of each type of financing and what type would be ideal for your business. You will know the sources of funding and how to go about getting the funds you need – SBA loan\, Angel and VC funding\, Crowd funding\, grants\, etc.
URL:https://cpcdc.org/event/financing-a-business-a-business-fundamentals-webinar
LOCATION:ONLINE
END:VEVENT
BEGIN:VEVENT
DTSTART;TZID=America/Chicago:20250616T120000
DTEND;TZID=America/Chicago:20250616T130000
DTSTAMP:20260421T003630
CREATED:20250604T202829Z
LAST-MODIFIED:20250604T202829Z
UID:5042-1750075200-1750078800@cpcdc.org
SUMMARY:Online Workshop: Privacy\, Cybersecurity and AI
DESCRIPTION:Join us for an engaging session led by Attorney Amy Cann\, a certified privacy and cybersecurity professional. We’ll explore the state of data privacy in the US along with NH’s new Data Privacy Law effective January 1\, 2025\, recent cyberattacks in the news and root causes\, and AI risks and its role in business. The session will conclude with a Q&A.
URL:https://cpcdc.org/event/online-workshop-privacy-cybersecurity-and-ai
LOCATION:ONLINE
END:VEVENT
BEGIN:VEVENT
DTSTART;TZID=America/Chicago:20250616T120000
DTEND;TZID=America/Chicago:20250616T130000
DTSTAMP:20260421T003630
CREATED:20250606T205541Z
LAST-MODIFIED:20250606T205541Z
UID:5074-1750075200-1750078800@cpcdc.org
SUMMARY:Leveraging AI and ChatGPT In Digital Marketing
DESCRIPTION:Throughout this webinar\, participants will learn: \n1. The fundamentals of AI and the GPT-4 model \n2. The role of AI and ChatGPT in digital marketing \n3. Practical applications of AI and ChatGPT \n4. Implementation Strategies \nWhether you’re a digital marketer looking to optimize your strategies\, a business owner seeking to enhance customer interactions\, or an AI enthusiast wanting to understand the practical implications of GPT-4 in marketing\, this webinar provides a platform to equip you with the knowledge and skills to stay at the forefront of the digital marketing revolution. \nJoin us to navigate the AI-powered digital landscape and unleash the full potential of your marketing strategies. Discover the transformative power of AI and ChatGPT in digital marketing\, and start reaping the rewards of this technological revolution today! 
URL:https://cpcdc.org/event/leveraging-ai-and-chatgpt-in-digital-marketing-2
LOCATION:ONLINE
END:VEVENT
END:VCALENDAR