BEGIN:VCALENDAR
VERSION:2.0
PRODID:-//Citizen Potawatomi Community Development Corporation - ECPv6.14.2//NONSGML v1.0//EN
CALSCALE:GREGORIAN
METHOD:PUBLISH
X-ORIGINAL-URL:https://cpcdc.org
X-WR-CALDESC:Events for Citizen Potawatomi Community Development Corporation
REFRESH-INTERVAL;VALUE=DURATION:PT1H
X-Robots-Tag:noindex
X-PUBLISHED-TTL:PT1H
BEGIN:VTIMEZONE
TZID:America/Chicago
BEGIN:DAYLIGHT
TZOFFSETFROM:-0500
TZOFFSETTO:-0500
TZNAME:CDT
DTSTART:20250101T000000
END:DAYLIGHT
END:VTIMEZONE
BEGIN:VEVENT
DTSTART;TZID=America/Chicago:20250618T110000
DTEND;TZID=America/Chicago:20250618T120000
DTSTAMP:20260422T205506
CREATED:20250527T215616Z
LAST-MODIFIED:20250527T215616Z
UID:4990-1750244400-1750248000@cpcdc.org
SUMMARY:Thriving at Ecommerce: Nail It Before You Scale It
DESCRIPTION:OKSBDC is proud to partner with the experts at Google to offer you this exciting training. The Thriving at Remote eCommerce training offers practical tips and strategies to create a successful eCommerce business from home. Our expert trainer will cover effective communication\, time management\, optimizing your workspace\, streamlining operations\, reducing costs\, and increasing productivity. \nSpeaker(s): Maria Elena Duron Google Expert Trainer \nReasonable accommodations for persons with disabilities will be made if requested at least two weeks in advance. Language assistance services are available for limited English proficient individuals with appropriate advance notice. Please contact OKSBDC Training Manager Cindy Ruminer by email at cindy.ruminer@oksbdc.org or call 580-745-2877. \nAll SBDC programs and services are extended to the public on a non-discriminatory basis. “Funded in part through a Cooperative Agreement with the U.S. Small Business Administration. All opinions\, conclusions\, and/or recommendations expressed herein are those of the author(s) and do not necessarily reflect the views of the SBA.”
URL:https://cpcdc.org/event/thriving-at-ecommerce-nail-it-before-you-scale-it
LOCATION:ONLINE
END:VEVENT
BEGIN:VEVENT
DTSTART;TZID=America/Chicago:20250618T120000
DTEND;TZID=America/Chicago:20250618T130000
DTSTAMP:20260422T205506
CREATED:20250618T163009Z
LAST-MODIFIED:20250618T163009Z
UID:5080-1750248000-1750251600@cpcdc.org
SUMMARY:Secrets to Buying a Franchise
DESCRIPTION:This workshop will provide you with all the information you need to decide if owning a franchise is right for you\, and how to find the right one. Page Nicol is a seasoned franchise consultant and owner\, with over 30 years as a UPS Store multi unit owner\, developer\, and experienced consultant with FranNet. In this presentation you will learn.  \n* What are the pros and cons of owning a franchise? \n* What are the common myths about franchising? \n* What franchise concepts are working in today’s economy? \n* How can you safely find and research a franchise before making a decision? \n* How can you get financing to start your own business. 
URL:https://cpcdc.org/event/secrets-to-buying-a-franchise-4
LOCATION:ONLINE
END:VEVENT
BEGIN:VEVENT
DTSTART;TZID=America/Chicago:20250618T140000
DTEND;TZID=America/Chicago:20250618T150000
DTSTAMP:20260422T205506
CREATED:20250618T163112Z
LAST-MODIFIED:20250618T163112Z
UID:5082-1750255200-1750258800@cpcdc.org
SUMMARY:Estate Planning and Exiting Your Business
DESCRIPTION:Alexander Lashkari is a trusted financial planner to business owners\, executives\, and high-income professionals who want clarity\, confidence\, and control over their financial lives. As Vice President of Sales Management at GoldBook Financial\, he brings a strategic\, relationship-first approach to wealth building\, risk management\, and long-term planning. \nAlexander is known for his ability to simplify complex financial decisions and help clients take meaningful action—whether they’re navigating business growth\, succession planning\, or preparing for generational wealth transfer. He integrates investment planning\, insurance strategies\, tax efficiency\, and estate coordination to design customized plans that evolve with each stage of life and business. \nStarting his career in financial services at just 19\, Alexander quickly developed a reputation for results and integrity. He holds FINRA Series 7 and 66 licenses\, along with Life & Health Insurance licensing\, and works closely with a network of CPAs\, estate attorneys\, and underwriters to deliver comprehensive\, coordinated solutions. \nClients value his calm presence\, his strategic thinking\, and his genuine commitment to helping them build a legacy that reflects their values
URL:https://cpcdc.org/event/estate-planning-and-exiting-your-business
LOCATION:ONLINE
END:VEVENT
END:VCALENDAR