BEGIN:VCALENDAR
VERSION:2.0
PRODID:-//Citizen Potawatomi Community Development Corporation - ECPv6.14.2//NONSGML v1.0//EN
CALSCALE:GREGORIAN
METHOD:PUBLISH
X-ORIGINAL-URL:https://cpcdc.org
X-WR-CALDESC:Events for Citizen Potawatomi Community Development Corporation
REFRESH-INTERVAL;VALUE=DURATION:PT1H
X-Robots-Tag:noindex
X-PUBLISHED-TTL:PT1H
BEGIN:VTIMEZONE
TZID:America/Chicago
BEGIN:DAYLIGHT
TZOFFSETFROM:-0500
TZOFFSETTO:-0500
TZNAME:CDT
DTSTART:20250101T000000
END:DAYLIGHT
END:VTIMEZONE
BEGIN:VEVENT
DTSTART;TZID=America/Chicago:20250813T120000
DTEND;TZID=America/Chicago:20250813T130000
DTSTAMP:20260423T020619
CREATED:20250722T171145Z
LAST-MODIFIED:20250722T171145Z
UID:5177-1755086400-1755090000@cpcdc.org
SUMMARY:Venture Forward: How to Pitch
DESCRIPTION:We’re excited to partner in bringing you the “In the Weeds” Masterclass Series – A program being offered by the Oklahoma Farm Bureau Rural Economic Development Department. Part One – This virtual training is designed for rural entrepreneurs who want to sharpen their business strategies\, refine their innovation pitches\, and tap into valuable Oklahoma-based business resources. In this interactive session\, you’ll build the skills and confidence to present yourself and your business to investors and key stakeholders. By the end of the masterclass\, you’ll walk away with a polished and persuasive 5-minute pitch and improved presentation skills to help you stand out in any professional setting. \nReasonable accommodations for persons with disabilities will be made if requested at least two weeks in advance. Language assistance services are available for limited English proficient individuals with appropriate advance notice. Please contact OKSBDC Training Manager Cindy Ruminer by email at cindy.ruminer@oksbdc.org or call 580-745-2877. All SBDC programs and services are extended to the public on a non-discriminatory basis. “Funded in part through a Cooperative Agreement with the U.S. Small Business Administration. All opinions\, conclusions\, and/or recommendations expressed herein are those of the author(s) and do not necessarily reflect the views of the SBA.”
URL:https://cpcdc.org/event/venture-forward-how-to-pitch
LOCATION:ONLINE
END:VEVENT
END:VCALENDAR