BEGIN:VCALENDAR
VERSION:2.0
PRODID:-//Citizen Potawatomi Community Development Corporation - ECPv6.14.2//NONSGML v1.0//EN
CALSCALE:GREGORIAN
METHOD:PUBLISH
X-WR-CALNAME:Citizen Potawatomi Community Development Corporation
X-ORIGINAL-URL:https://cpcdc.org
X-WR-CALDESC:Events for Citizen Potawatomi Community Development Corporation
REFRESH-INTERVAL;VALUE=DURATION:PT1H
X-Robots-Tag:noindex
X-PUBLISHED-TTL:PT1H
BEGIN:VTIMEZONE
TZID:America/Chicago
BEGIN:DAYLIGHT
TZOFFSETFROM:-0500
TZOFFSETTO:-0500
TZNAME:CDT
DTSTART:20250101T000000
END:DAYLIGHT
END:VTIMEZONE
BEGIN:VEVENT
DTSTART;TZID=America/Chicago:20250916T100000
DTEND;TZID=America/Chicago:20250916T110000
DTSTAMP:20260424T063153
CREATED:20250916T140016Z
LAST-MODIFIED:20250916T140016Z
UID:5225-1758016800-1758020400@cpcdc.org
SUMMARY:Business Succession & Estate Planning
DESCRIPTION:Building on the prior session\, this workshop dives deeper into estate planning techniques that support a smooth business transition and multi-generational wealth transfer. Learn how tools like trusts\, gifting strategies\, and entity structures can help reduce estate tax exposure\, maintain control\, and ensure continuity for your business and family.
URL:https://cpcdc.org/event/business-succession-estate-planning
LOCATION:ONLINE
END:VEVENT
BEGIN:VEVENT
DTSTART;TZID=America/Chicago:20250916T110000
DTEND;TZID=America/Chicago:20250916T123000
DTSTAMP:20260424T063153
CREATED:20250916T140308Z
LAST-MODIFIED:20250916T140308Z
UID:5227-1758020400-1758025800@cpcdc.org
SUMMARY:Marketing Strategies for the Holidays
DESCRIPTION:Are you ready to maximize your marketing during the holidays? Are you wondering how your brand will keep up with the new hustle and bustle habits? Make plans to join Oklahoma SBDC Business Advisors as they walk through marketing strategies for this upcoming holiday season. Attendees will walk away with immediate strategies to ensure you maximize success during the holidays\, along with a copy of the presentation and valuable handouts.
URL:https://cpcdc.org/event/marketing-strategies-for-the-holidays-4
LOCATION:ONLINE
END:VEVENT
BEGIN:VEVENT
DTSTART;TZID=America/Chicago:20250916T110000
DTEND;TZID=America/Chicago:20250916T140000
DTSTAMP:20260424T063153
CREATED:20250916T151547Z
LAST-MODIFIED:20250916T151547Z
UID:5293-1758020400-1758031200@cpcdc.org
SUMMARY:AI Visibility 360 – How to Be Found by People\, Platforms\, and AI Tools
DESCRIPTION:Being found online is no longer just about keywords. It’s about showing up everywhere AI looks. This session walks you through the visibility layers that matter now—and how to build a presence that sticks. \nWhat You’ll Learn:\n Where AI search pulls from and how to be listed\, ranked\, and cited\n The role of Google\, directories\, and structured content in modern search\n How to build authority across your digital footprint\n What makes your profile and site “AI-citable”\n Visibility audits and quick wins for multi-platform search \n– Built for:\n• Experts\, consultants\, and local businesses ready to optimize for human search\, machine learning\, and future-facing platforms
URL:https://cpcdc.org/event/ai-visibility-360-how-to-be-found-by-people-platforms-and-ai-tools-2
LOCATION:ONLINE
END:VEVENT
BEGIN:VEVENT
DTSTART;TZID=America/Chicago:20250916T120000
DTEND;TZID=America/Chicago:20250916T130000
DTSTAMP:20260424T063153
CREATED:20250916T135423Z
LAST-MODIFIED:20250916T135423Z
UID:5217-1758024000-1758027600@cpcdc.org
SUMMARY:Protecting Your Company's IP: What Every Startup and Small Business Needs to Know
DESCRIPTION:Intellectual property is becoming increasingly important when it comes to business valuation as well as success. Your business could likely benefit from more than one form of intellectual property protection. As such\, knowing the differences between patents\, trademarks\, copyrights and trade secrets can prove invaluable when the time comes to develop strategies that protect any inventive concepts or creative expressions you might develop\, along with any source identifiers you might use when you take your products or services to market. Additionally\, if you have any confidential\, proprietary information\, you may consider developing trade secret protection protocols to better maintain the secrecy of that information. Underlying all of those potential protection strategies are the written agreements necessary to not only ensure that your company’s information remains confidential\, but also that you or your company will legally own any intellectual property you may ultimately try to monetize.  \nThis presentation will provide you with foundational knowledge on each of the four main types of IP (patents\, trademarks\, copyrights and trade secrets) along with some related issues such as IP ownership and common startup mistakes\, so that you will be better prepared as you start and grow your business. 
URL:https://cpcdc.org/event/protecting-your-companys-ip-what-every-startup-and-small-business-needs-to-know
LOCATION:ONLINE
END:VEVENT
END:VCALENDAR