BEGIN:VCALENDAR
VERSION:2.0
PRODID:-//Citizen Potawatomi Community Development Corporation - ECPv6.14.2//NONSGML v1.0//EN
CALSCALE:GREGORIAN
METHOD:PUBLISH
X-WR-CALNAME:Citizen Potawatomi Community Development Corporation
X-ORIGINAL-URL:https://cpcdc.org
X-WR-CALDESC:Events for Citizen Potawatomi Community Development Corporation
REFRESH-INTERVAL;VALUE=DURATION:PT1H
X-Robots-Tag:noindex
X-PUBLISHED-TTL:PT1H
BEGIN:VTIMEZONE
TZID:America/Chicago
BEGIN:DAYLIGHT
TZOFFSETFROM:-0500
TZOFFSETTO:-0500
TZNAME:CDT
DTSTART:20250101T000000
END:DAYLIGHT
END:VTIMEZONE
BEGIN:VEVENT
DTSTART;TZID=America/Chicago:20250917T110000
DTEND;TZID=America/Chicago:20250917T120000
DTSTAMP:20260423T195005
CREATED:20250916T140412Z
LAST-MODIFIED:20250916T140412Z
UID:5229-1758106800-1758110400@cpcdc.org
SUMMARY:An Overview of the Made in America Manufacturing Initiative
DESCRIPTION:America’s manufacturing renaissance is underway—and small businesses are leading the charge. This workshop provides an overview of the new manufacturing initiative and introduces participants to powerful new onshoring manufacturing portals that give small businesses the tools they need to thrive in a changing global economy. Designed to reduce reliance on overseas production\, these platforms make it easier than ever to connect with U.S.-based manufacturers\, suppliers\, and service providers. By leveraging this technology\, small businesses can shorten supply chains\, mitigate global risk\, and bring production back home—supporting American jobs and revitalizing local communities. Whether you’re a manufacturer\, product developer\, or small business owner looking to reshore your operations\, this workshop offers the knowledge and resources to make onshoring a reality—and a competitive advantage.
URL:https://cpcdc.org/event/an-overview-of-the-made-in-america-manufacturing-initiative
LOCATION:ONLINE
END:VEVENT
END:VCALENDAR