BEGIN:VCALENDAR
VERSION:2.0
PRODID:-//Citizen Potawatomi Community Development Corporation - ECPv6.14.2//NONSGML v1.0//EN
CALSCALE:GREGORIAN
METHOD:PUBLISH
X-WR-CALNAME:Citizen Potawatomi Community Development Corporation
X-ORIGINAL-URL:https://cpcdc.org
X-WR-CALDESC:Events for Citizen Potawatomi Community Development Corporation
REFRESH-INTERVAL;VALUE=DURATION:PT1H
X-Robots-Tag:noindex
X-PUBLISHED-TTL:PT1H
BEGIN:VTIMEZONE
TZID:America/Chicago
BEGIN:DAYLIGHT
TZOFFSETFROM:-0500
TZOFFSETTO:-0500
TZNAME:CDT
DTSTART:20250101T000000
END:DAYLIGHT
END:VTIMEZONE
BEGIN:VEVENT
DTSTART;TZID=America/Chicago:20250918T080000
DTEND;TZID=America/Chicago:20250918T140000
DTSTAMP:20260423T182031
CREATED:20250626T180440Z
LAST-MODIFIED:20250626T180440Z
UID:5109-1758182400-1758204000@cpcdc.org
SUMMARY:Oklahoma Women's Business Summit
DESCRIPTION:On September 18th\, we will be in Lawton for the Women’s Business Summit of Southwest Oklahoma. We have a fantastic lineup for the day and an amazing keynote speaker! This event continues to grow and get better each year.
URL:https://cpcdc.org/event/oklahoma-womens-business-summit
LOCATION:Great Plains Technology Center\, 4500SW Lee Boulevard Bldg 600\, Rm 656\, Lawton\, OK\, 73505\, United States
END:VEVENT
BEGIN:VEVENT
DTSTART;TZID=America/Chicago:20250918T100000
DTEND;TZID=America/Chicago:20250918T110000
DTSTAMP:20260423T182031
CREATED:20250916T135536Z
LAST-MODIFIED:20250916T135536Z
UID:5219-1758189600-1758193200@cpcdc.org
SUMMARY:ChatGPT and Canva: The Perfect Team For Fast\, Fabulous Content Creation
DESCRIPTION:Creating content doesn’t have to be stressful or time-consuming. In this fun and practical session\, you’ll learn how to combine the creative power of Canva with the time-saving magic of ChatGPT to create engaging social posts\, polished flyers\, blog drafts\, and short videos—quickly and easily. \nWe’ll show you how to: \n\nUse smart prompts in ChatGPT to generate copy and ideas\nDesign professional visuals using Canva templates\nScript short videos—even if you’re not a video expert\n\nPerfect for solopreneurs\, small business owners\, and nonprofit leaders who want to market with confidence\, consistency\, and creativity—without the overwhelm. \nThis webinar is not sponsored\, endorsed\, administered by\, or associated with Canva or ChatGPT.
URL:https://cpcdc.org/event/chatgpt-and-canva-the-perfect-team-for-fast-fabulous-content-creation-2
LOCATION:ONLINE
END:VEVENT
BEGIN:VEVENT
DTSTART;TZID=America/Chicago:20250918T110000
DTEND;TZID=America/Chicago:20250918T120000
DTSTAMP:20260423T182031
CREATED:20250916T140539Z
LAST-MODIFIED:20250916T140539Z
UID:5231-1758193200-1758196800@cpcdc.org
SUMMARY:Business Smart
DESCRIPTION:If you’re looking to start a business and have questions on where to begin\, this workshop covers those first steps. Maybe you have a business idea and need to answer a few questions to give the idea more structure. Have you thought of a clever name\, registered your business\, or opened a bank account? Now what? In this workshop\, we will be covering the following topics: Market Feasibility Key sections of a business plan Factors to consider when determining legal structure Where to find funding Key resources for your business The goal of this workshop is to provide direction to new entrepreneurs and introduce you to the Oklahoma Small Business Development Center. Attendees will have a better understanding of initial steps to starting their business.
URL:https://cpcdc.org/event/business-smart-23
LOCATION:ONLINE
END:VEVENT
END:VCALENDAR