BEGIN:VCALENDAR
VERSION:2.0
PRODID:-//Citizen Potawatomi Community Development Corporation - ECPv6.14.2//NONSGML v1.0//EN
CALSCALE:GREGORIAN
METHOD:PUBLISH
X-WR-CALNAME:Citizen Potawatomi Community Development Corporation
X-ORIGINAL-URL:https://cpcdc.org
X-WR-CALDESC:Events for Citizen Potawatomi Community Development Corporation
REFRESH-INTERVAL;VALUE=DURATION:PT1H
X-Robots-Tag:noindex
X-PUBLISHED-TTL:PT1H
BEGIN:VTIMEZONE
TZID:America/Chicago
BEGIN:DAYLIGHT
TZOFFSETFROM:-0500
TZOFFSETTO:-0500
TZNAME:CDT
DTSTART:20250101T000000
END:DAYLIGHT
END:VTIMEZONE
BEGIN:VEVENT
DTSTART;TZID=America/Chicago:20250919T100000
DTEND;TZID=America/Chicago:20250919T110000
DTSTAMP:20260422T081359
CREATED:20250916T135717Z
LAST-MODIFIED:20250916T135717Z
UID:5221-1758276000-1758279600@cpcdc.org
SUMMARY:Maximize Your Website Potential & Drive More Business
DESCRIPTION:Ready to take your online presence to the next level? Join us for an informative webinar focused on strategies to maximize your website’s potential. Gain insights into proven techniques that can elevate your online presence and drive business growth. \nDuring this session\, we will delve into optimizing your website for better search engine visibility\, improving user experience\, and boosting conversion rates. By applying these strategies\, you’ll be better equipped to attract more visitors\, engage effectively\, and ultimately enhance your business success. \nDon’t miss out on this opportunity to learn and implement actionable steps that can make a real difference for your website and business. Register now and take the first step toward unlocking your website’s true potential.
URL:https://cpcdc.org/event/maximize-your-website-potential-drive-more-business-2
LOCATION:ONLINE
END:VEVENT
END:VCALENDAR