BEGIN:VCALENDAR
VERSION:2.0
PRODID:-//Citizen Potawatomi Community Development Corporation - ECPv6.14.2//NONSGML v1.0//EN
CALSCALE:GREGORIAN
METHOD:PUBLISH
X-WR-CALNAME:Citizen Potawatomi Community Development Corporation
X-ORIGINAL-URL:https://cpcdc.org
X-WR-CALDESC:Events for Citizen Potawatomi Community Development Corporation
REFRESH-INTERVAL;VALUE=DURATION:PT1H
X-Robots-Tag:noindex
X-PUBLISHED-TTL:PT1H
BEGIN:VTIMEZONE
TZID:America/Chicago
BEGIN:DAYLIGHT
TZOFFSETFROM:-0500
TZOFFSETTO:-0500
TZNAME:CDT
DTSTART:20260101T000000
END:DAYLIGHT
END:VTIMEZONE
BEGIN:VEVENT
DTSTART;TZID=America/Chicago:20260114T080000
DTEND;TZID=America/Chicago:20260114T170000
DTSTAMP:20260419T121920
CREATED:20260114T180518Z
LAST-MODIFIED:20260114T182923Z
UID:5456-1768377600-1768410000@cpcdc.org
SUMMARY:Creating A Business On A Shoestring
DESCRIPTION:  \n\n\n\n\n\n\n\nAbout the event\n\n\n\nBy attending this Four Part Series On Creating A Business On A Shoestring Budget\, you will learn how to start a Business with a limited Budget and still deliver big value with a small overhead. Learn about Smart Solutions to get your Business off of the ground. This four part series will contain four different modules. They are: \nJanuary 14 at Noon CST – Idea To Income \nJanuary 28 at Noon CST – DIY Marketing On A Budget \nFebruary 11 at Noon CST – Lean Operations and Smart Business \nFebruary 25 at Noon CST – Set A Roadmap For 1st Revenue \nThe Bundled Price for this Four Part Series is $60 . Each individual Module will cost $20 to attend \nThe Facilitators for this series are: \nSCORE Member Marie Herman . As the owner of MRH Enterprises LLC\, Marie helps office professionals to advance their careers through certification and education. Prior to launching her incredibly successful training business\, Marie supported the Chief Technology Officer of the Fermi National Accelerator Lab and Chairman Emeritus of ServiceMaster. Marie\, an author\, mentor and subject matter expert\, holds multiple certifications and can help you become better trained as well. Her articles in Executive Support magazine have proven perennially popular.She has more than two decades of experience as an administrative and efficiency consultant. \nSu Hartung is a SCORE Master Mentor. She has a marketing and communication background with a global specialty chemical manufacturer\, worked in broadcast TV news\, and spent over 30 years in Toastmasters as a speaker\, mentor and workshop facilitator. As a franchise owner\, Su operated a B2B marketing business out of her den. Su holds B.A. and M.A. degrees from NIU. \nJennifer Richardson is an ADHD and overwhelm coach\, business strategist\, and co-founder of Rooted Authority — a coaching collective that helps women entrepreneurs grow with focus\, accountability\, and sustainable strategy. Drawing from over a decade of experience running multiple businesses\, Jennifer teaches practical methods for building consistency\, structure\, and confidence. Through Rooted Authority\, she and her business partner combine expertise in digital marketing and leadership development to help women align their values\, voice\, and vision — and build businesses that work smarter\, not harder. \n\n\n\n\n\n\n\nSHARE THIS EVENT\n\n\n\n\n\n\n\n\n\n\n\n\n\n\n\n\n\n\n\n\n\n\n\n 
URL:https://cpcdc.org/event/bundled-price-four-part-series-on-creating-a-business-on-a-shoestring
LOCATION:ONLINE
END:VEVENT
END:VCALENDAR