BEGIN:VCALENDAR
VERSION:2.0
PRODID:-//Citizen Potawatomi Community Development Corporation - ECPv6.14.2//NONSGML v1.0//EN
CALSCALE:GREGORIAN
METHOD:PUBLISH
X-ORIGINAL-URL:https://cpcdc.org
X-WR-CALDESC:Events for Citizen Potawatomi Community Development Corporation
REFRESH-INTERVAL;VALUE=DURATION:PT1H
X-Robots-Tag:noindex
X-PUBLISHED-TTL:PT1H
BEGIN:VTIMEZONE
TZID:America/Chicago
BEGIN:DAYLIGHT
TZOFFSETFROM:-0500
TZOFFSETTO:-0500
TZNAME:CDT
DTSTART:20260101T000000
END:DAYLIGHT
END:VTIMEZONE
BEGIN:VEVENT
DTSTART;TZID=America/Chicago:20260226T110000
DTEND;TZID=America/Chicago:20260226T120000
DTSTAMP:20260420T044646
CREATED:20260129T162004Z
LAST-MODIFIED:20260129T162004Z
UID:5579-1772103600-1772107200@cpcdc.org
SUMMARY:Business Start Up
DESCRIPTION:THIS WORKSHOP IS AN ONSITE ONLY EVENT. THIS IS NOT OFFERED VIRTUALLY AND IS BEING HELD ON CAMPUS AT KIAMICHI TECHNOLOGY CENTER IN THE WED Health Classroom in the Phil Chitwood Health Science Building. \nIt’s back to basics! If you want to start a business but aren’t sure where to begin\, then this class is for you. In this workshop\, our SBDC professionals will address many of the questions you should ask yourself before beginning the process of starting a new business. Attendees will learn about legal business structures\, small business tax basics\, best management practices\, basic marketing strategies and market research. We will also talk about how to write a business plan and the importance of financial statements. After attending\, you will have the opportunity to connect with one of our SBDC Business Advisors to get assistance in moving through the stages of your business venture. Attendees will receive a copy of the presentation along with helpful handouts\, and have the opportunity to ask questions. \nSpeaker(s): Trinity Lively\, OKSBDC Business Advisor \nCo-Sponsor(s): \nReasonable accommodations for persons with disabilities will be made if requested at least two weeks in advance. Language assistance services are available for limited English proficient individuals with appropriate advance notice. Please contact OKSBDC Training Manager Cindy Ruminer by email at cindy.ruminer@oksbdc.org or call 580-745-2877. All SBDC programs and services are extended to the public on a non-discriminatory basis. “Funded in part through a Cooperative Agreement with the U.S. Small Business Administration. All opinions\, conclusions\, and/or recommendations expressed herein are those of the author(s) and do not necessarily reflect the views of the SBA.” This training event is supported by federal taxpayer funds. By registering\, I certify that I am legally authorized to receive services funded by U.S. taxpayer dollars\, in accordance with applicable federal law and regulations.
URL:https://cpcdc.org/event/business-start-up-48
LOCATION:Kiamichi Technology Center – Poteau\, 1301 West Liberty Road\, Poteau\, OK\, 74953\, United States
END:VEVENT
BEGIN:VEVENT
DTSTART;TZID=America/Chicago:20260226T110000
DTEND;TZID=America/Chicago:20260226T120000
DTSTAMP:20260420T044646
CREATED:20260129T162821Z
LAST-MODIFIED:20260129T162821Z
UID:5591-1772103600-1772107200@cpcdc.org
SUMMARY:Business Smart
DESCRIPTION:If you’re looking to start a business and have questions on where to begin\, this workshop covers those first steps. Maybe you have a business idea and need to answer a few questions to give the idea more structure. Have you thought of a clever name\, registered your business\, or opened a bank account? Now what? In this workshop\, we will be covering the following topics: Market Feasibility Key sections of a business plan Factors to consider when determining legal structure Where to find funding Key resources for your business The goal of this workshop is to provide direction to new entrepreneurs and introduce you to the Oklahoma Small Business Development Center. Attendees will have a better understanding of initial steps to starting their business. \nSpeaker(s): OKSBDC Advisor Shannon Spier OKSBDC Advisor Greg Jones \nCo-Sponsor(s): \nReasonable accommodations for persons with disabilities will be made if requested at least two weeks in advance. Language assistance services are available for limited English proficient individuals with appropriate advance notice. Please contact OKSBDC Training Manager Cindy Ruminer by email at cindy.ruminer@oksbdc.org or call 580-745-2877. All SBDC programs and services are extended to the public on a non-discriminatory basis. “Funded in part through a Cooperative Agreement with the U.S. Small Business Administration. All opinions\, conclusions\, and/or recommendations expressed herein are those of the author(s) and do not necessarily reflect the views of the SBA.” This training event is supported by federal taxpayer funds. By registering\, I certify that I am legally authorized to receive services funded by U.S. taxpayer dollars\, in accordance with applicable federal law and regulations.
URL:https://cpcdc.org/event/business-smart-25
LOCATION:ONLINE
END:VEVENT
BEGIN:VEVENT
DTSTART;TZID=America/Chicago:20260226T120000
DTEND;TZID=America/Chicago:20260226T130000
DTSTAMP:20260420T044646
CREATED:20260203T183853Z
LAST-MODIFIED:20260203T183853Z
UID:5618-1772107200-1772110800@cpcdc.org
SUMMARY:Health Insurance 101 for Small Business Owners and Startups
DESCRIPTION:Navigating health insurance as a solopreneur or small business owner can be overwhelming\, but it doesn’t have to be. Whether you’re exploring coverage for yourself or considering benefits for your first employees\, understanding your options can help you make smarter\, more confident decisions. \nIn this webinar\, our expert presenters will break down everything you need to know about health insurance as a small business. You’ll learn how to compare coverage types\, understand key terms\, and find trusted brokers or agents who can guide you through the process so you can focus on running your business with clarity and confidence. \nYou’ll learn how to: \n\nUnderstand the benefits of offering health insurance to employees\nCompare common types of coverage and what they mean for your business\nNavigate the health insurance marketplace with confidence\nIdentify reputable brokers or agents to help you choose a plan\nDecode key health insurance terms and concepts
URL:https://cpcdc.org/event/health-insurance-101-for-small-business-owners-and-startups
LOCATION:ONLINE
END:VEVENT
END:VCALENDAR