BEGIN:VCALENDAR
VERSION:2.0
PRODID:-//Citizen Potawatomi Community Development Corporation - ECPv6.14.2//NONSGML v1.0//EN
CALSCALE:GREGORIAN
METHOD:PUBLISH
X-WR-CALNAME:Citizen Potawatomi Community Development Corporation
X-ORIGINAL-URL:https://cpcdc.org
X-WR-CALDESC:Events for Citizen Potawatomi Community Development Corporation
REFRESH-INTERVAL;VALUE=DURATION:PT1H
X-Robots-Tag:noindex
X-PUBLISHED-TTL:PT1H
BEGIN:VTIMEZONE
TZID:America/Chicago
BEGIN:DAYLIGHT
TZOFFSETFROM:-0500
TZOFFSETTO:-0500
TZNAME:CDT
DTSTART:20260101T000000
END:DAYLIGHT
END:VTIMEZONE
BEGIN:VEVENT
DTSTART;TZID=America/Chicago:20260312T100000
DTEND;TZID=America/Chicago:20260312T113000
DTSTAMP:20260419T164355
CREATED:20260309T170011Z
LAST-MODIFIED:20260309T170853Z
UID:5684-1773309600-1773315000@cpcdc.org
SUMMARY:Microsoft Excel – Analyzing Your Data
DESCRIPTION:This session will introduce participants to working with and analyzing their data in Excel. Specifically\, we’ll cover how to manage and analyze large amounts of information by working with Pivot Tables\, Conditional Formatting\, and Charting. The presenter will also share some additional ways to work with data\, both on-screen and printed\, and will demonstrate other features that can assist in interpreting your data. There will be plenty of time for Q&A with the presenter at the end of the session! \nPresenter: Chris Hennes\, Pioneer Library System \nThis event is presented by the Oklahoma Commercialization Network (OCN)\, powered by Oklahoma Center for the Advancement of Science and Technology (OCAST)\, in collaboration with i2E\, Inc.\, The Verge OKC\, REI Oklahoma and Gradient Innovation Hub. \nFunded (in part) through a Cooperative Agreement with the U.S. Small Business Administration. All opinions\, conclusions\, and/or recommendations expressed herein are those of the author(s) and do not necessarily reflect the views of the SBA. Women’s Business Center (WBC) services are provided on a nondiscriminatory basis. Reasonable accommodations for persons with disabilities and language assistance services for clients with limited English proficiency will be provided if requested at least two weeks in advance. Contact REI Oklahoma WBC at (800) 658-2823.
URL:https://cpcdc.org/event/virtual-microsoft-excel-analyzing-your-data-2
LOCATION:ONLINE
END:VEVENT
BEGIN:VEVENT
DTSTART;TZID=America/Chicago:20260312T110000
DTEND;TZID=America/Chicago:20260312T120000
DTSTAMP:20260419T164355
CREATED:20260129T162558Z
LAST-MODIFIED:20260129T162558Z
UID:5587-1773313200-1773316800@cpcdc.org
SUMMARY:Small Business Insurance Basics
DESCRIPTION:We all know there are many important decisions to be made when opening a business. Making sure you select the right type of small business insurance coverage is one of those. Unfortunately\, many small business owners find out way too late that they’ve not had the right type of coverage causing unrecoverable losses. Please take time to join OKSBDC and Andy Paden\, INSURICA Ins. Group as we discuss small business insurance and try to help you navigate your way through these important decisions. Individuals attending this workshop will walk away with a better understanding of the following: \n* One Size Doesn’t Fit All – Make the right choice for your business structure. \n* Do you have the enough coverage? \n* Understanding Business Insurance Basics. \n* When is it time revisit my insurance policy and coverage? \n* How do I know what types of insurance policies I need? \n* What affects my insurance costs? \nSpeaker(s): Andy Paden – Insurica OKSBDC Business Advisor \nCo-Sponsor(s): \nReasonable accommodations for persons with disabilities will be made if requested at least two weeks in advance. Language assistance services are available for limited English proficient individuals with appropriate advance notice. Please contact OKSBDC Training Manager Cindy Ruminer by email at cindy.ruminer@oksbdc.org or call 580-745-2877. All SBDC programs and services are extended to the public on a non-discriminatory basis. “Funded in part through a Cooperative Agreement with the U.S. Small Business Administration. All opinions\, conclusions\, and/or recommendations expressed herein are those of the author(s) and do not necessarily reflect the views of the SBA.” This training event is supported by federal taxpayer funds. By registering\, I certify that I am legally authorized to receive services funded by U.S. taxpayer dollars\, in accordance with applicable federal law and regulations.
URL:https://cpcdc.org/event/small-business-insurance-basics-11
LOCATION:ONLINE
END:VEVENT
BEGIN:VEVENT
DTSTART;TZID=America/Chicago:20260312T120000
DTEND;TZID=America/Chicago:20260312T130000
DTSTAMP:20260419T164355
CREATED:20260213T213005Z
LAST-MODIFIED:20260217T150747Z
UID:5630-1773316800-1773320400@cpcdc.org
SUMMARY:CPCDC Lunch and Learn- Making Taxes less Taxing
DESCRIPTION:CPCDC’s March Lunch & Learn events for 2026- Making Taxes less Taxing! \nPlease join us for a fun and practical session to help you make your taxes less taxing! \nDate:   Thursday\, March 12\, 2026\nTime: 12-1 pm\nLocation: CPN- The South Reunion Hall  \n  \nDate:   Thursday\, March 26\, 2026\nTime: 12-1 pm\nLocation: The Grand Casino-Deer Room  \n  \n**Lunch is provided with registration** \nSpace is limited so sign up ASAP! \nTo register please email angela.franklin@cpcdc.org \nOr call our office at CPCDC 405-878-4697 x 4257 \n  \n 
URL:https://cpcdc.org/event/taxes-getting-ready-for-taxes-and-smart-refund-use
LOCATION:South Reunion Hall\, 1702 Gordon Cooper Drive\, Shawnee\, OK\, 74801\, United States
ORGANIZER;CN="Citizen Potawatomi Community Development Corporation":MAILTO:info@cpcdc.org
END:VEVENT
END:VCALENDAR