BEGIN:VCALENDAR
VERSION:2.0
PRODID:-//Citizen Potawatomi Community Development Corporation - ECPv6.14.2//NONSGML v1.0//EN
CALSCALE:GREGORIAN
METHOD:PUBLISH
X-ORIGINAL-URL:https://cpcdc.org
X-WR-CALDESC:Events for Citizen Potawatomi Community Development Corporation
REFRESH-INTERVAL;VALUE=DURATION:PT1H
X-Robots-Tag:noindex
X-PUBLISHED-TTL:PT1H
BEGIN:VTIMEZONE
TZID:America/Chicago
BEGIN:DAYLIGHT
TZOFFSETFROM:-0500
TZOFFSETTO:-0500
TZNAME:CDT
DTSTART:20260101T000000
END:DAYLIGHT
END:VTIMEZONE
BEGIN:VEVENT
DTSTART;TZID=America/Chicago:20260326T110000
DTEND;TZID=America/Chicago:20260326T120000
DTSTAMP:20260420T193233
CREATED:20260309T160719Z
LAST-MODIFIED:20260309T160719Z
UID:5665-1774522800-1774526400@cpcdc.org
SUMMARY:Business Smart
DESCRIPTION:If you’re looking to start a business and have questions on where to begin\, this workshop covers those first steps. Maybe you have a business idea and need to answer a few questions to give the idea more structure. Have you thought of a clever name\, registered your business\, or opened a bank account? Now what? In this workshop\, we will be covering the following topics: \n\nMarket Feasibility\nKey sections of a business plan\nFactors to consider when determining legal structure\nWhere to find funding\nKey resources for your business\n\nThe goal of this workshop is to provide direction to new entrepreneurs and introduce you to the Oklahoma Small Business Development Center. Attendees will have a better understanding of initial steps to starting their business. \nSpeaker(s): OKSBDC Advisor Shannon Spier OKSBDC Advisor Greg Jones \nReasonable accommodations for persons with disabilities will be made if requested at least two weeks in advance. Language assistance services are available for limited English proficient individuals with appropriate advance notice. Please contact OKSBDC Training Manager Cindy Ruminer by email at cindy.ruminer@oksbdc.org or call 580-745-2877. \nAll SBDC programs and services are extended to the public on a non-discriminatory basis. “Funded in part through a Cooperative Agreement with the U.S. Small Business Administration. All opinions\, conclusions\, and/or recommendations expressed herein are those of the author(s) and do not necessarily reflect the views of the SBA.” \nThis training event is supported by federal taxpayer funds. By registering\, I certify that I am legally authorized to receive services funded by U.S. taxpayer dollars\, in accordance with applicable federal law and regulations
URL:https://cpcdc.org/event/business-smart-27
LOCATION:ONLINE
END:VEVENT
BEGIN:VEVENT
DTSTART;TZID=America/Chicago:20260326T110000
DTEND;TZID=America/Chicago:20260326T120000
DTSTAMP:20260420T193233
CREATED:20260309T161114Z
LAST-MODIFIED:20260309T161114Z
UID:5667-1774522800-1774526400@cpcdc.org
SUMMARY:Understanding Small Business Tax Requirements
DESCRIPTION:THIS IS AN ON-SITE ONLY TRAINING Understanding tax responsibilities is an essential part of running a successful small business. Understanding Small Business Tax Requirements is an informative discussion designed to help small business owners gain a clearer understanding of what is required of them and how to be prepared. \nThis workshop provides a broad overview of the key tax responsibilities small businesses may face and highlights the importance of proper planning\, organization\, and recordkeeping. Participants will explore what it means to be tax-ready\, how business structure can impact tax obligations\, and the importance of staying informed about filing requirements and deadlines. \nThe goal of this session is to equip small business owners with greater awareness and confidence so they can take proactive steps toward compliance and financial preparedness. Whether you are just getting started or want to ensure you are on the right track\, this discussion will help you better understand your responsibilities and how to prepare for them effectively. \nSpeaker(s): Trinity Lively Oklahoma SBDC Business Advisor \nCo-Sponsor(s): Kiamichi Technology Center \nReasonable accommodations for persons with disabilities will be made if requested at least two weeks in advance. Language assistance services are available for limited English proficient individuals with appropriate advance notice. Please contact OKSBDC Training Manager Cindy Ruminer by email at cindy.ruminer@oksbdc.org or call 580-745-2877. \nAll SBDC programs and services are extended to the public on a non-discriminatory basis. “Funded in part through a Cooperative Agreement with the U.S. Small Business Administration. All opinions\, conclusions\, and/or recommendations expressed herein are those of the author(s) and do not necessarily reflect the views of the SBA.” \nThis training event is supported by federal taxpayer funds. By registering\, I certify that I am legally authorized to receive services funded by U.S. taxpayer dollars\, in accordance with applicable federal law and regulations
URL:https://cpcdc.org/event/understanding-small-business-tax-requirements-2
LOCATION:Kiamichi Technology Center – Poteau\, 1301 West Liberty Road\, Poteau\, OK\, 74953\, United States
END:VEVENT
BEGIN:VEVENT
DTSTART;TZID=America/Chicago:20260326T120000
DTEND;TZID=America/Chicago:20260326T130000
DTSTAMP:20260420T193233
CREATED:20260213T213709Z
LAST-MODIFIED:20260217T150922Z
UID:5639-1774526400-1774530000@cpcdc.org
SUMMARY:CPCDC Lunch and Learn- Making Taxes Less Taxing
DESCRIPTION:CPCDC’s March Lunch & Learn events for 2026- Making Taxes less Taxing! \nPlease join us for a fun and practical session to help you make your taxes less taxing! \nDate:   Thursday\, March 12\, 2026\nTime: 12-1 pm\nLocation: CPN- The South Reunion Hall  \n  \nDate:   Thursday\, March 26\, 2026\nTime: 12-1 pm\nLocation: The Grand Casino-Deer Room  \n**Lunch is provided with registration** \nSpace is limited so sign up ASAP! \nTo register please email angela.franklin@cpcdc.org \nOr call our office at CPCDC 405-878-4697 x 4257
URL:https://cpcdc.org/event/taxes-getting-ready-for-taxes-and-smart-refund-use-2
LOCATION:Grand Casino Hotel & Resort\, 777 Grand Casino Boulevard\, Shawnee\, OK\, 74804\, United States
ORGANIZER;CN="Citizen Potawatomi Community Development Corporation":MAILTO:info@cpcdc.org
END:VEVENT
END:VCALENDAR