BEGIN:VCALENDAR
VERSION:2.0
PRODID:-//Citizen Potawatomi Community Development Corporation - ECPv6.14.2//NONSGML v1.0//EN
CALSCALE:GREGORIAN
METHOD:PUBLISH
X-ORIGINAL-URL:https://cpcdc.org
X-WR-CALDESC:Events for Citizen Potawatomi Community Development Corporation
REFRESH-INTERVAL;VALUE=DURATION:PT1H
X-Robots-Tag:noindex
X-PUBLISHED-TTL:PT1H
BEGIN:VTIMEZONE
TZID:America/Chicago
BEGIN:DAYLIGHT
TZOFFSETFROM:-0500
TZOFFSETTO:-0500
TZNAME:CDT
DTSTART:20260101T000000
END:DAYLIGHT
END:VTIMEZONE
BEGIN:VEVENT
DTSTART;TZID=America/Chicago:20260429T110000
DTEND;TZID=America/Chicago:20260429T120000
DTSTAMP:20260422T063430
CREATED:20260325T162526Z
LAST-MODIFIED:20260325T162526Z
UID:5711-1777460400-1777464000@cpcdc.org
SUMMARY:Canva 2.0
DESCRIPTION:Building on the foundation of Canva basics\, this class shows you how to use the platform to the fullest! \nWhat Should Be in Canva 2.0:\n• Brand kits (colors\, fonts\, logos)\n• Creating reusable content systems\n• Advanced templates for:\n• Reels\n• Carousels\n• Promotions\n• Canva features that save time:\n• Magic resize\n• Bulk create\n• Animation basics\n• Designing for consistency across platforms\n• How to design faster \nThis is a hands-on\, interactive class where you’ll actively work on your own business during the session. You’ll engage live\, receive guidance and walk away with tools\, content and confidence you can use immediately. \nPresenter: Lauren Denny\, Kiamichi Technology Center \nThis event is presented by the Oklahoma Commercialization Network (OCN)\, powered by Oklahoma Center for the Advancement of Science and Technology (OCAST)\, in collaboration with i2E\, Inc.\, The Verge OKC\, REI Oklahoma and Gradient Innovation Hub. \nFunded (in part) through a Cooperative Agreement with the U.S. Small Business Administration. All opinions\, conclusions\, and/or recommendations expressed herein are those of the author(s) and do not necessarily reflect the views of the SBA. Women’s Business Center (WBC) services are provided on a nondiscriminatory basis. Reasonable accommodations for persons with disabilities and language assistance services for clients with limited English proficiency will be provided if requested at least two weeks in advance. Contact REI Oklahoma WBC at (800) 658-2823.
URL:https://cpcdc.org/event/canva-2-0
LOCATION:ONLINE
END:VEVENT
END:VCALENDAR