BEGIN:VCALENDAR
VERSION:2.0
PRODID:-//Citizen Potawatomi Community Development Corporation - ECPv6.14.2//NONSGML v1.0//EN
CALSCALE:GREGORIAN
METHOD:PUBLISH
X-WR-CALNAME:Citizen Potawatomi Community Development Corporation
X-ORIGINAL-URL:https://cpcdc.org
X-WR-CALDESC:Events for Citizen Potawatomi Community Development Corporation
REFRESH-INTERVAL;VALUE=DURATION:PT1H
X-Robots-Tag:noindex
X-PUBLISHED-TTL:PT1H
BEGIN:VTIMEZONE
TZID:America/Chicago
BEGIN:DAYLIGHT
TZOFFSETFROM:-0500
TZOFFSETTO:-0500
TZNAME:CDT
DTSTART:20210101T000000
END:DAYLIGHT
END:VTIMEZONE
BEGIN:VEVENT
DTSTART;TZID=America/Chicago:20210310T130000
DTEND;TZID=America/Chicago:20210310T143000
DTSTAMP:20260422T083336
CREATED:20201228T214655Z
LAST-MODIFIED:20201228T214655Z
UID:2063-1615381200-1615386600@cpcdc.org
SUMMARY:E-commerce Marketing and Advertising strategies
DESCRIPTION:From creating a digital marketing plan to growing your ecommerce traffic and advertising\, join for a session on e-commerce marketing.\n\n\n\n\n\nAbout this Event\n\n\nFuture Proof is a program that assists businesses with identifying new markets\, pivoting their business model\, and developing and implementing a deep digital transformation plan. Access via Zoom link below. \n  \nE-commerce is a massive opportunity for any business. It allows you to grow your community and make more sales by connecting with customers from around the world. Because of the size of the opportunity\, it’s also a fiercely competitive space with its own tools and own rules to ensure success. \n  \nE-commerce marketing can be confusing. What tools should you use? What platforms are best for you? And how much money do you really need to spend to be successful? \n  \nIn this online interactive Q&A\, we’ll share some foolproof advice on how your business can use e-commerce and marketing tools to grow their business\, attract more customers\, and generate more revenue. \n  \nJoin us for a short presentation on: \n● How to create and stick to a digital marketing plan \n● The best tools to get traffic to your offline and online business \n● Ecommerce growth strategies \n● Intro to advertising on major platforms like Facebook\, Instagram\, and Google. \n  \nFollowed by a Q&A session \n● We’ll discuss some of the unique challenges small business owners are facing and how to deal with them \n● You will get the opportunity to have your questions answered by entrepreneurs who understand the challenges you’re going through \n  \nSign up today to secure your spot and start growing your business. \n  \nPlease register and complete the survey questions upon checkout. Please note that this session will be recorded. Join via Zoom here at 2pm.
URL:https://cpcdc.org/event/e-commerce-marketing-and-advertising-strategies
LOCATION:ONLINE
CATEGORIES:BizLaunch
END:VEVENT
END:VCALENDAR