BEGIN:VCALENDAR
VERSION:2.0
PRODID:-//Citizen Potawatomi Community Development Corporation - ECPv6.14.2//NONSGML v1.0//EN
CALSCALE:GREGORIAN
METHOD:PUBLISH
X-WR-CALNAME:Citizen Potawatomi Community Development Corporation
X-ORIGINAL-URL:https://cpcdc.org
X-WR-CALDESC:Events for Citizen Potawatomi Community Development Corporation
REFRESH-INTERVAL;VALUE=DURATION:PT1H
X-Robots-Tag:noindex
X-PUBLISHED-TTL:PT1H
BEGIN:VTIMEZONE
TZID:America/Chicago
BEGIN:DAYLIGHT
TZOFFSETFROM:-0500
TZOFFSETTO:-0500
TZNAME:CDT
DTSTART:20210101T000000
END:DAYLIGHT
END:VTIMEZONE
BEGIN:VEVENT
DTSTART;TZID=America/Chicago:20210224T090000
DTEND;TZID=America/Chicago:20210224T100000
DTSTAMP:20260419T165556
CREATED:20210129T214819Z
LAST-MODIFIED:20210129T214819Z
UID:2215-1614157200-1614160800@cpcdc.org
SUMMARY:Better Ways To Manage Your Social Media Content
DESCRIPTION:Do you have your content calendar and plan for social media marketing but you are still forgetting to post? Is it hard to make it back to log on to post everyday or maybe you have too many accounts to juggle? If you answered YES to any of the above questions then you don’t want to miss this webinar. \nIn this 60 minute webinar\, you will learn how by using content management apps\, you can to schedule your posts in advance. We will cover what features to look for in a content manager app and how much will it cost? Tune in to find out.  Join social media expert\, Roxanne Best\, as she helps you manage your content so your social media channels never run dry! \nThe workshop will take place on Wednesday\, February 24th at 12:00 pm Pacific / 1:00 pm Mountain / 2:00 pm Central.  This workshop will be delivered online utilizing the Zoom platform.  The workshop can be taken on computers and smartphones. \nAll Native entrepreneurs and community members are welcome.  If you know of anybody that would be interested or could benefit from this webinar\, please share it with them! \n  \nRoxanne Best (Colville) is a multi-talented and multi-disciplinary entrepreneur. Roxanne is a photographer and operates Roxtography in Omak\, WA. She specializes in lifestyle portraits\, special events\, and business imagery. She is also a yoga instructor\, culinary artist\, storyteller\, and small business consultant. She can be found at roxtography.com.
URL:https://cpcdc.org/event/better-ways-to-manage-your-social-media-content
LOCATION:ONLINE
CATEGORIES:Free,IDRS Acorn Project
END:VEVENT
END:VCALENDAR