BEGIN:VCALENDAR
VERSION:2.0
PRODID:-//Citizen Potawatomi Community Development Corporation - ECPv6.14.2//NONSGML v1.0//EN
CALSCALE:GREGORIAN
METHOD:PUBLISH
X-ORIGINAL-URL:https://cpcdc.org
X-WR-CALDESC:Events for Citizen Potawatomi Community Development Corporation
REFRESH-INTERVAL;VALUE=DURATION:PT1H
X-Robots-Tag:noindex
X-PUBLISHED-TTL:PT1H
BEGIN:VTIMEZONE
TZID:America/Los_Angeles
BEGIN:DAYLIGHT
TZOFFSETFROM:-0700
TZOFFSETTO:-0700
TZNAME:PDT
DTSTART:20210101T000000
END:DAYLIGHT
END:VTIMEZONE
BEGIN:VEVENT
DTSTART;TZID=America/Los_Angeles:20210311T090000
DTEND;TZID=America/Los_Angeles:20210311T100000
DTSTAMP:20260422T114757
CREATED:20210226T191948Z
LAST-MODIFIED:20210226T191948Z
UID:2285-1615453200-1615456800@cpcdc.org
SUMMARY:Teaching Youth Entrepreneurship
DESCRIPTION:Do you work with youth\, would like to work with youth or have a young person that you would like to influence in a positive way? Many of today’s youth rarely receive information on how to work toward economic stability while pursuing a small business through\nentrepreneurship. \nIn this webinar\, participants will learn the 10 basic principles of teaching youth entrepreneurship\, with a high-level view of each of each principle. \nThe workshop will take place on Thursday\, March 11th at 9:00 am Pacific / 10:00 am Mountain / 11:00 am Central. The workshop is free and open all entrepreneurs. \nThis workshop will be delivered online utilizing the Zoom platform. The workshop can be taken on computers and smartphones. \nAbout our presenter:\nCamille Koster (Cherokee) serves as the Youth Program Manager for the IDRS Acorn Project. Through the program\, she teaches youth how to explore entrepreneurship and create side hustles which provides them the opportunity to make money while continuing to focus on their education . She has worked in youth development and in nonprofit for the last 18 years\, both writing and facilitating camps across the nation. She has co-facilitated camps with the Drug-Free Communities National Initiative\, Students Working Against Tobacco\, Cherokee Nation Behavioral Health\, ONABEN\, the Oklahoma Department of Mental Health and Substance Abuse\, and more. Camille dedicated five years of her youth development career as the Chief Operating Officer of Girl Scouts of Eastern Oklahoma. She successfully assisted in one the largest youth entrepreneur programs as she helped build strategy and infrastructure for a cookie sale campaign that led to her local Council selling over 1 million boxes of Girl Scout Cookies in Eastern Oklahoma.\n​\nCamille is a United States Navy Veteran and is proud to have represented the Cherokee Tribe in the military. During the time she served\, only 15.4% of the military was comprised of Native American members\, likewise\, only 4% were female members. She has a Masters Degree in Organizational Management. Camille lives in Jenks\, Oklahoma\, is married to a Firefighter and has three children. \nThis workshop is being funded in part by the USDA Rural Development\, the Small Business Administration\, and the California Governor’s Office of Business and Economic Development.
URL:https://cpcdc.org/event/teaching-youth-entrepreneurship
LOCATION:ONLINE
CATEGORIES:Free,IDRS Acorn Project
END:VEVENT
END:VCALENDAR