BEGIN:VCALENDAR
VERSION:2.0
PRODID:-//Citizen Potawatomi Community Development Corporation - ECPv6.14.2//NONSGML v1.0//EN
CALSCALE:GREGORIAN
METHOD:PUBLISH
X-ORIGINAL-URL:https://cpcdc.org
X-WR-CALDESC:Events for Citizen Potawatomi Community Development Corporation
REFRESH-INTERVAL;VALUE=DURATION:PT1H
X-Robots-Tag:noindex
X-PUBLISHED-TTL:PT1H
BEGIN:VTIMEZONE
TZID:America/Chicago
BEGIN:DAYLIGHT
TZOFFSETFROM:-0500
TZOFFSETTO:-0500
TZNAME:CDT
DTSTART:20190101T000000
END:DAYLIGHT
END:VTIMEZONE
BEGIN:VEVENT
DTSTART;TZID=America/Chicago:20190801T081500
DTEND;TZID=America/Chicago:20190801T100000
DTSTAMP:20260419T214248
CREATED:20190529T162548Z
LAST-MODIFIED:20190529T162548Z
UID:511-1564647300-1564653600@cpcdc.org
SUMMARY:OKC Women's Business Breakfast
DESCRIPTION:The OKC Women’s Business Breakfast is a popular networking and business-building event. This monthly opportunity enables you to interact with other women in business and potential customers\, build your network\, and is a great place to market your business! \nBring your business cards and join us for this exclusive networking meeting for women business owners\, professionals and small business resource partners. \nRegistration is encouraged. \nYou’ll also: \n\nConnect through interactive discussions and activities.\nLearn from other women entrepreneurs and professionals in the area.\nHear the latest in resource services for women entrepreneurs.\n\nThe OKC Women’s Business Breakfast meets the first Thursday morning of every month.  Breakfast sponsorships are available.  Contact Jennifer Edwards at 800-658-2823 or jedwards@reiok.org \nFunded in part through a cooperative agreement with the U. S. Small Business Administration\, WBC’s\, SBA 7j\, and PRIME programs and services are provided on a nondiscriminatory basis. Reasonable accommodations for persons with disabilities and language assistance services for clients with limited English proficiency will be provided if requested at least two weeks in advance. Contact Lori Smith\, WBC Assistant or Cassidy Gilmore\, PRIME Coordinator at P.O. Box 1335\, Durant\, OK 74702 or call 800-658-2823.
URL:https://cpcdc.org/event/okc-womens-business-breakfast-9
LOCATION:Kamps 1910 Cafe\, 10 Northeast 10th Street\, Oklahoma City\, OK\, 73104\, United States
CATEGORIES:Networking,REI WBC
END:VEVENT
BEGIN:VEVENT
DTSTART;TZID=America/Chicago:20190808T081500
DTEND;TZID=America/Chicago:20190808T091500
DTSTAMP:20260419T214248
CREATED:20190529T162737Z
LAST-MODIFIED:20190529T162737Z
UID:513-1565252100-1565255700@cpcdc.org
SUMMARY:Small Business Breakfast Club
DESCRIPTION:The Small Business Breakfast Club is a monthly networking and business-building event for business owners\, professionals and small business resource partners. \nEach month we will highlight a business owner or local expert who can share their knowledge and experience\, covering different topics monthly\, with plenty of time for Q&A \nThe Breakfast Club meets the second Thursday morning of every month.  Breakfast sponsorships are available to highlight your business. Bring your business cards and join us! Registration is encouraged. \nPartners: Durant Area Chamber of Commerce\, OKSBDC\, Durant Main Street\, OSU Extension\, Choctaw Nation\, Imagine Durant and REI Women’s Business Center. \nFunded in part through a cooperative agreement with the U. S. Small Business Administration\, WBC’s\, SBA 7j\, and PRIME programs and services are provided on a nondiscriminatory basis. Reasonable accommodations for persons with disabilities and language assistance services for clients with limited English proficiency will be provided if requested at least two weeks in advance. Contact Lori Smith\, WBC Assistant or Cassidy Gilmore\, PRIME Coordinator at P.O. Box 1335\, Durant\, OK 74702 or call 800-658-2823.
URL:https://cpcdc.org/event/small-business-breakfast-club-2
LOCATION:REI Oklahoma Conference Center\, 2912 Enterprise Blvd\, Durant\, OK\, 74701\, United States
CATEGORIES:REI WBC
END:VEVENT
BEGIN:VEVENT
DTSTART;TZID=America/Chicago:20190821T090000
DTEND;TZID=America/Chicago:20190821T160000
DTSTAMP:20260419T214248
CREATED:20190812T172206Z
LAST-MODIFIED:20190812T192048Z
UID:571-1566378000-1566403200@cpcdc.org
SUMMARY:Comprehensive QuickBooks Desktop
DESCRIPTION:NOTICE  – Choctaw Tribal Members who own a business in or reside in the 10½ Choctaw Counties may be eligible for a Choctaw Small Business Development Scholarship to pay for this training workshop. To qualify for the Choctaw Business Training Scholarship\, please contact Gina Hamilton – ghamilton@choctawnation.com – 580-924-8280 ext. 4213 to provide your date of birth for Choctaw Tribal Membership verification purposes. Upon verification\, you will be notified. \nQuickBooks software is ideal for small businesses that manage their own accounting and other business transactions. Participants in this intensive\, hands-on training will learn how QuickBooks can streamline their processes and benefit their business. QuickBooks Pro 2018 Desktop version is used for this training.  Topics to be covered include:  examining chart of accounts; writing checks and recording deposits; reconciling bank statements; entering and paying bills; invoicing customers and receiving payments; creating basic financial statements and balance sheets; tracking sales tax; entering and receiving credit card charges; utilizing sub-accounts.  Attendees will enter information on provided laptops using practice sets and have the opportunity to ask questions and receive guidance. \nSpace is limiteded.  Attendees are encourage to register early. \nMJ Brienen\, Certified QuickBooks Pro Advisor \nMJ Brienen is a seasoned professional focused on helping businesses in many stages of development to set-up\, maintain\, or fix their QuickBooks systems.  She works to help uncover the secrets to QuickBooks® and how the program can be used most effectively by businesses.  Brienen has a background in banking\, sales\, project management\, and working with websites. \nPartners: Kiamichi Technology Center\, McAlester Area Chamber of Commerce\, Choctaw Nation\, OSBDC\, and REI Women’s Business Center. \nYou will be redirected to PayPal to pay for registration. Fee is non-refundable. If you cannot attend\, your registration may be able to be transferred to another workshop.
URL:https://cpcdc.org/event/comprehensive-quickbooks-desktop-6
LOCATION:Kiamichi Technology Center – Poteau\, 1301 West Liberty Road\, Poteau\, OK\, 74953\, United States
CATEGORIES:Quickbooks,REI WBC
ATTACH;FMTTYPE=image/jpeg:https://cpcdc.org/wp-content/uploads/2019/05/32-328641_the-best-etsy-experience-for-quickbooks-online-intuit.jpg
END:VEVENT
BEGIN:VEVENT
DTSTART;TZID=America/Chicago:20190822T090000
DTEND;TZID=America/Chicago:20190822T120000
DTSTAMP:20260419T214248
CREATED:20190529T163101Z
LAST-MODIFIED:20190529T163101Z
UID:518-1566464400-1566475200@cpcdc.org
SUMMARY:First Steps to Startup Success
DESCRIPTION:If you are planning to start a business\, please join us at a First Steps to Startup Success workshop. \nPlease come prepared for great Q&A. The session provides overviews of: \n\nCommon startup questions\nBusiness Structures\, Licenses & Permits\nHow to register a business in Oklahoma\nFinancing a business\nPreparing a business plan\nBasics of marketing and easy ways to market a business\n\nUpon completing the class you will have the opportunity to schedule a one-on-one appointment with a business counselor in our office. We do not charge anything for our one-on-one sessions\, the class is $20. \nPresenters: Dewey Brandon\, Oklahoma Tax Commission; REI Oklahoma Representatives \nPartners:  Durant Area Chamber of Commerce\, OKSBDC\, Durant Main Street\, OSU Extension\, Choctaw Nation\, Imagine Durant\, and REI Women’s Business Center \nYou will be redirected to PayPal to pay for registration. Fee is non-refundable. If you cannot attend\, your registration may be able to be transferred to another workshop. \nFunded in part through a cooperative agreement with the U. S. Small Business Administration\, WBC’s\, SBA 7j\, and PRIME programs and services are provided on a nondiscriminatory basis. Reasonable accommodations for persons with disabilities and language assistance services for clients with limited English proficiency will be provided if requested at least two weeks in advance. Contact Lori Smith\, WBC Assistant or Cassidy Gilmore\, PRIME Coordinator at P.O. Box 1335\, Durant\, OK 74702 or call 800-658-2823. \n\n\n\nPrice: $20.00
URL:https://cpcdc.org/event/first-steps-to-startup-success-7
LOCATION:REI Oklahoma Conference Center\, 2912 Enterprise Blvd\, Durant\, OK\, 74701\, United States
CATEGORIES:REI WBC
END:VEVENT
BEGIN:VEVENT
DTSTART;TZID=America/Chicago:20190828T080000
DTEND;TZID=America/Chicago:20190828T090000
DTSTAMP:20260419T214248
CREATED:20190826T213150Z
LAST-MODIFIED:20190826T213150Z
UID:577-1566979200-1566982800@cpcdc.org
SUMMARY:#WBC Connects - Cleveland
DESCRIPTION:Discover the power of networking at the #WBC Connects Breakfast hosted by the Cleveland Chamber of Commerce\, Central Technology Center\, Drumright and REI Women’s Business Center.  This event will enable you to connect with countless potential customers\, build your business contacts and have a great sense of community throughout the area. \nBreakfast sponsorships are available.  For more information\, please contact Leslie Browand\, REI WBC Coordinator at 1-800-638-2823. \nFunded in part through a cooperative agreement with the U.S. Small Business Administration. WBC and PRIME programs and services are provided on a nondiscriminatory basis. Reasonable accommodations for persons with disabilities and language assistance services for clients with limited English proficiency will be provided if requested at least two weeks in advance. Contact Lori Smith\, WBC Assistant at PO Box 1335\, Durant\, OK 74702 or call 800-658-2823.
URL:https://cpcdc.org/event/wbc-connects-cleveland
LOCATION:Cleveland Chamber of Commerce\, 217 South Broadway\, Cleveland\, OK\, 74020\, United States
CATEGORIES:Free,REI WBC
END:VEVENT
BEGIN:VEVENT
DTSTART;TZID=America/Chicago:20190828T090000
DTEND;TZID=America/Chicago:20190828T160000
DTSTAMP:20260419T214248
CREATED:20190826T212926Z
LAST-MODIFIED:20190826T212926Z
UID:575-1566982800-1567008000@cpcdc.org
SUMMARY:Comprehensive QuickBooks Desktop
DESCRIPTION:QuickBooks software is ideal for small businesses that manage their own accounting and other business transactions. Participants in this intensive\, hands-on training will learn how QuickBooks can streamline their processes and benefit their business. QuickBooks Pro 2018 Desktop version is used for this training.  Topics to be covered include:  examining chart of accounts; writing checks and recording deposits; reconciling bank statements; entering and paying bills; invoicing customers and receiving payments; creating basic financial statements and balance sheets; tracking sales tax; entering and receiving credit card charges; utilizing sub-accounts.  Attendees will enter information on provided laptops using practice sets and have the opportunity to ask questions and receive guidance. \nSpace is limiteded.  Attendees are encourage to register early. \nMJ Brienen\, Certified QuickBooks Pro Advisor \nMJ Brienen is a seasoned professional focused on helping businesses in many stages of development to set-up\, maintain\, or fix their QuickBooks systems.  She works to help uncover the secrets to QuickBooks® and how the program can be used most effectively by businesses.  Brienen has a background in banking\, sales\, project management\, and working with websites. \nPartners: Red River Technology Center\, Duncan Chamber of Commerce\, Duncan Area Economic Development\, and REI Women’s Business Center \nYou will be redirected to PayPal to pay for registration. Fee is non-refundable. If you cannot attend\, your registration may be able to be transferred to another workshop.  \nFunded in part through a cooperative agreement with the U.S. Small Business Administration. WBC and PRIME programs and services are provided on a nondiscriminatory basis. Reasonable accommodations for persons with disabilities and language assistance services for clients with limited English proficiency will be provided if requested at least two weeks in advance. Contact Lori Smith\, WBC Assistant at PO Box 1335\, Durant\, OK 74702 or call 800-658-2823. \n\n\n\nPrice: $115.00
URL:https://cpcdc.org/event/comprehensive-quickbooks-desktop-7
LOCATION:Red River Technology Center\, 3300 West Bois D. Arc Avenue\, Duncan\, OK\, 73533\, United States
CATEGORIES:Quickbooks,REI WBC
ATTACH;FMTTYPE=image/jpeg:https://cpcdc.org/wp-content/uploads/2019/05/32-328641_the-best-etsy-experience-for-quickbooks-online-intuit.jpg
END:VEVENT
END:VCALENDAR