BEGIN:VCALENDAR
VERSION:2.0
PRODID:-//Citizen Potawatomi Community Development Corporation - ECPv6.14.2//NONSGML v1.0//EN
CALSCALE:GREGORIAN
METHOD:PUBLISH
X-ORIGINAL-URL:https://cpcdc.org
X-WR-CALDESC:Events for Citizen Potawatomi Community Development Corporation
REFRESH-INTERVAL;VALUE=DURATION:PT1H
X-Robots-Tag:noindex
X-PUBLISHED-TTL:PT1H
BEGIN:VTIMEZONE
TZID:America/Chicago
BEGIN:DAYLIGHT
TZOFFSETFROM:-0500
TZOFFSETTO:-0500
TZNAME:CDT
DTSTART:20200101T000000
END:DAYLIGHT
END:VTIMEZONE
BEGIN:VEVENT
DTSTART;TZID=America/Chicago:20201001T081500
DTEND;TZID=America/Chicago:20201001T100000
DTSTAMP:20260419T154207
CREATED:20200622T175012Z
LAST-MODIFIED:20200622T175012Z
UID:1527-1601540100-1601546400@cpcdc.org
SUMMARY:OKC Women's Business Breakfast 2020
DESCRIPTION:The OKC Women’s Business Breakfast is a monthly networking and business-building event. This opportunity enables you to interact with other women in business and potential customers\, build your network\, and market your business!  Bring your business cards and join us for this exclusive networking meeting for women business owners\, professionals and small business resource partners. \nAt this event you can expect to: \nConnect through interactive discussions and activities.\nLearn from other women entrepreneurs and professionals in the area.\nHear the latest in resource services for women entrepreneurs.\nFree to attend.  Breakfast sponsorships available. \nThe OKC Women’s Business Breakfast meets the first Thursday morning of every month.  Breakfast sponsorships are available.  Contact Jennifer Edwards at 800-658-2823 or jedwards@reiok.org. \nPartners: Pioneer Library System\, State Chamber of Oklahoma\, and REI Women’s Business Center. \nFunded in part through a cooperative agreement with the U.S. Small Business Administration. WBC and PRIME programs and services are provided on a nondiscriminatory basis. Reasonable accommodations for persons with disabilities and language assistance services for clients with limited English proficiency will be provided if requested at least two weeks in advance. Contact Lori Smith\, WBC Assistant at PO Box 1335\, Durant\, OK 74702 or call 800-658-2823.
URL:https://cpcdc.org/event/okc-womens-business-breakfast-2020-9
LOCATION:The Walker Building\, 1300 N. Walker Avenue\, Oklahoma City\, OK\, 73103\, United States
CATEGORIES:Free,Networking,REI WBC
ATTACH;FMTTYPE=image/jpeg:https://cpcdc.org/wp-content/uploads/2018/05/breakfast-meeting.jpg
END:VEVENT
BEGIN:VEVENT
DTSTART;TZID=America/Chicago:20201006T100000
DTEND;TZID=America/Chicago:20201006T113000
DTSTAMP:20260419T154207
CREATED:20200825T173123Z
LAST-MODIFIED:20200825T173123Z
UID:1768-1601978400-1601983800@cpcdc.org
SUMMARY:Excel: Pivot Tables & Analyzing Your Data
DESCRIPTION:This session will introduce participants to working with and analyzing their data in Excel.  Specifically\, we’ll cover how to manage and analyze large amounts of information by working with Pivot Tables\, Conditional Formatting\, and Charting.  The presenter will also share some additional ways to work with data\, both on-screen and printed\, and will demonstrate other features that can assist in interpreting your data. \nWe’ll have plenty of time for Q&A with the presenter at the end of the session! \nFunded in part through a cooperative agreement with the U.S. Small Business Administration. WBC and 7j programs and services are provided on a nondiscriminatory basis. Reasonable accommodations for persons with disabilities and language assistance services for clients with limited English proficiency will be provided if requested at least two weeks in advance. Contact Lori Smith\, WBC Assistant at PO Box 1335\, Durant\, OK 74702 or call 800-658-2823.
URL:https://cpcdc.org/event/excel-pivot-tables-analyzing-your-data
LOCATION:ONLINE
CATEGORIES:Free,Online,REI WBC,Shawnee,Shawnee Business
ATTACH;FMTTYPE=image/jpeg:https://cpcdc.org/wp-content/uploads/2020/08/notebook-1850613_1920-e1598371989642.jpg
END:VEVENT
BEGIN:VEVENT
DTSTART;TZID=America/Chicago:20201013T083000
DTEND;TZID=America/Chicago:20201013T113000
DTSTAMP:20260419T154207
CREATED:20200622T180240Z
LAST-MODIFIED:20200622T180240Z
UID:1531-1602577800-1602588600@cpcdc.org
SUMMARY:Business Basics: Operations Management
DESCRIPTION:Do you have short term and long term goals for your business? Do you know what would happen to your business if something happened to you? Have you documented your key business processes? Join us for this workshop which will take a deeper look into the different areas of operations you need to consider when starting and growing your business. In this workshop\, we will take a look at how to structure your business to meet your business needs\, how to set short term and long term goals and strategies\, as well as examine different areas of risk within your business. Both new and existing small business owners will benefit from this workshop. \nSpeakers from Francis Tuttle Launch Pad\, Moore Norman Technology Center\, MidDel Technology Center\, SCORE\, OKSBDC and REI Women’s Business Center. \nPartners: Speakers from Francis Tuttle Launch Pad\, Moore Norman Technology Center\, MidDel Technology Center\, SCORE\, OKSBDC and REI Women’s Business Center. \nYou will be redirected to PayPal to pay for registration. Fee is non-refundable. If you cannot attend\, your registration may be able to be transferred to another workshop. \nFunded in part through a cooperative agreement with the U.S. Small Business Administration. WBC and PRIME programs and services are provided on a nondiscriminatory basis. Reasonable accommodations for persons with disabilities and language assistance services for clients with limited English proficiency will be provided if requested at least two weeks in advance. Contact Lori Smith\, WBC Assistant at PO Box 1335\, Durant\, OK 74702 or call 800-658-2823.
URL:https://cpcdc.org/event/business-basics-operations-management-3
LOCATION:Francis Tuttle Business Innovation Center\, Room B1120\, 2824 Progressive Drive\, Edmond\, OK\, 73034\, United States
CATEGORIES:REI WBC
ATTACH;FMTTYPE=image/jpeg:https://cpcdc.org/wp-content/uploads/2020/06/businessman-2753324_1920.jpg
END:VEVENT
BEGIN:VEVENT
DTSTART;TZID=America/Chicago:20201022T083000
DTEND;TZID=America/Chicago:20201022T113000
DTSTAMP:20260419T154207
CREATED:20200622T185234Z
LAST-MODIFIED:20200622T185234Z
UID:1536-1603355400-1603366200@cpcdc.org
SUMMARY:Business Basics - Starting and Running Your Own Business
DESCRIPTION:To start your own business you need to know the questions to ask\, location and structure types\, how to register in Oklahoma\, preparation of the business plan\, understanding business financials\, and the steps to getting financed.  Federal\, state\, and local resources will also be discussed in this session.  This seminar is a broad overview of the different areas to consider when starting a new business.  There will be plenty of time allotted to ask questions of the instructors and business experts. \nSpeakers from Francis Tuttle\, Moore Norman Tech\, MidDel Tech\, SCORE\, OKSBDC\, and REI Women’s Business Center. \nPartners: Francis Tuttle Launch Pad\, Moore Norman Tech\, MidDel Tech\, SCORE\, OKSBDC\, and REI Women’s Business Center. \nYou will be redirected to PayPal to pay for registration. Fee is non-refundable. If you cannot attend\, your registration may be able to be transferred to another workshop. \nFunded in part through a cooperative agreement with the U.S. Small Business Administration. WBC and PRIME programs and services are provided on a nondiscriminatory basis. Reasonable accommodations for persons with disabilities and language assistance services for clients with limited English proficiency will be provided if requested at least two weeks in advance. Contact Lori Smith\, WBC Assistant at PO Box 1335\, Durant\, OK 74702 or call 800-658-2823.
URL:https://cpcdc.org/event/business-basics-starting-and-running-your-own-business-6
LOCATION:Moore Norman Technology Center\, S. Penn Campus\, 13301 South Penn\, Oklahoma City\, OK\, 73170\, United States
CATEGORIES:REI WBC
ATTACH;FMTTYPE=image/jpeg:https://cpcdc.org/wp-content/uploads/2020/06/startup-2850272_1920.jpg
END:VEVENT
END:VCALENDAR