BEGIN:VCALENDAR
VERSION:2.0
PRODID:-//Citizen Potawatomi Community Development Corporation - ECPv6.14.2//NONSGML v1.0//EN
CALSCALE:GREGORIAN
METHOD:PUBLISH
X-ORIGINAL-URL:https://cpcdc.org
X-WR-CALDESC:Events for Citizen Potawatomi Community Development Corporation
REFRESH-INTERVAL;VALUE=DURATION:PT1H
X-Robots-Tag:noindex
X-PUBLISHED-TTL:PT1H
BEGIN:VTIMEZONE
TZID:America/Chicago
BEGIN:DAYLIGHT
TZOFFSETFROM:-0500
TZOFFSETTO:-0500
TZNAME:CDT
DTSTART:20210101T000000
END:DAYLIGHT
END:VTIMEZONE
BEGIN:VEVENT
DTSTART;TZID=America/Chicago:20210107T143000
DTEND;TZID=America/Chicago:20210107T153000
DTSTAMP:20260419T170515
CREATED:20210104T202951Z
LAST-MODIFIED:20210104T202951Z
UID:2078-1610029800-1610033400@cpcdc.org
SUMMARY:Virtual Event: Business Tax Basics & Ask the Expert Zoom
DESCRIPTION:Join us to hear from Savannah Dixon of Vann Dixon\, CPA who will provide information on small business tax concerns and answer any specific questions from participants. \nFunded in part through a cooperative agreement with the U.S. Small Business Administration. WBC and PRIME programs and services are provided on a nondiscriminatory basis. Reasonable accommodations for persons with disabilities and language assistance services for clients with limited English proficiency will be provided if requested at least two weeks in advance. Contact Lori Smith\, WBC Assistant at PO Box 1335\, Durant\, OK 74702 or call 800-658-2823.
URL:https://cpcdc.org/event/virtual-event-business-tax-basics-ask-the-expert-zoom
LOCATION:ONLINE
CATEGORIES:Free,Oklahoma Small Business Development Centers,REI WBC
END:VEVENT
BEGIN:VEVENT
DTSTART;TZID=America/Chicago:20210110T100000
DTEND;TZID=America/Chicago:20210110T113000
DTSTAMP:20260419T170515
CREATED:20210114T202947Z
LAST-MODIFIED:20210114T202947Z
UID:2097-1610272800-1610278200@cpcdc.org
SUMMARY:Virtual Training: Excel ~ Introduction to Formulas & Functions
DESCRIPTION:Date/Time: \nFebruary 10th\, 2021\nStart Time: 10:00 am\nEnd Time: 11:30 am \n\n\nThis session covers the basics of functions and formulas in Excel.  Participants will learn the keys to error-free formula entry\, how to edit a worksheet\, how to use functions like Sum and Average\, and working with Autoformat and Autocomplete. The presenter will also include tips for efficiently creating large sheets using the Autofill and Autosum features of Excel. \nWe’ll have plenty of time for Q&A with the presenter at the end of the session! \nPresenter: Chris Hennes\, Pioneer Library System \nWorkshop provided by Pioneer Library System and REI Women’s Business Center. \nFunded in part through a cooperative agreement with the U.S. Small Business Administration. WBC and 7j programs and services are provided on a nondiscriminatory basis. Reasonable accommodations for persons with disabilities and language assistance services for clients with limited English proficiency will be provided if requested at least two weeks in advance. Contact Lori Smith\, WBC Assistant at PO Box 1335\, Durant\, OK 74702 or call 800-658-2823.
URL:https://cpcdc.org/event/virtual-training-excel-introduction-to-formulas-functions
LOCATION:ONLINE
CATEGORIES:REI WBC
END:VEVENT
BEGIN:VEVENT
DTSTART;TZID=America/Chicago:20210125T140000
DTEND;TZID=America/Chicago:20210125T150000
DTSTAMP:20260419T170515
CREATED:20210114T205534Z
LAST-MODIFIED:20210114T205534Z
UID:2129-1611583200-1611586800@cpcdc.org
SUMMARY:Virtual Training: Make Better Business Decisions with Analytics
DESCRIPTION:Date/Time: \nJanuary 25th\, 2021\nStart Time: 2:00 pm\nEnd Time: 3:00 pm \n\n\nLearn best practices and analyze trends about how customers engage with your business online\, then turn these insights into well-informed\, actionable decisions. \nIN THIS SESSION\, WE’LL SHOW YOU HOW TO \n\nIdentifying  business goals and how you plan to use your online presence to achieve them\nIncorporating data into your marketing plan\nSelecting tools to help you find the answers you need\n\nPresenter: Maria Elena Duron\, Grow With Google Professional Trainer \nWorkshop provided by REI Women’s Business Center \nFunded in part through a cooperative agreement with the U.S. Small Business Administration. WBC and 7j programs and services are provided on a nondiscriminatory basis. Reasonable accommodations for persons with disabilities and language assistance services for clients with limited English proficiency will be provided if requested at least two weeks in advance. Contact Lori Smith\, WBC Assistant at PO Box 1335\, Durant\, OK 74702 or call 800-658-2823.
URL:https://cpcdc.org/event/virtual-training-make-better-business-decisions-with-analytics
LOCATION:ONLINE
CATEGORIES:Free,REI WBC
END:VEVENT
BEGIN:VEVENT
DTSTART;TZID=America/Chicago:20210126T133000
DTEND;TZID=America/Chicago:20210126T150000
DTSTAMP:20260419T170515
CREATED:20210113T202744Z
LAST-MODIFIED:20210113T202744Z
UID:2093-1611667800-1611673200@cpcdc.org
SUMMARY:Virtual Training: The Perfect Customer: How to Identify Your Target Audience
DESCRIPTION:Date/Time: \nJanuary 26th\, 2021\nStart Time: 1:30 pm\nEnd Time: 3:00 pm \n\n\nAs a small business\, you want to ensure that the efforts you put into marketing and advertising are working. Join us for an interactive workshop that will help you identify your target audience and “work smarter” to align your marketing efforts to reach the ideal customer. \nPresenter: Jessie Phillips\, Kiamichi Technology Center District Communications & Marketing Coordinator \nWorkshop provided by Kiamichi Technology Center and REI Women’s Business Center. \nFunded in part through a cooperative agreement with the U.S. Small Business Administration. WBC and 7j programs and services are provided on a nondiscriminatory basis. Reasonable accommodations for persons with disabilities and language assistance services for clients with limited English proficiency will be provided if requested at least two weeks in advance. Contact Lori Smith\, WBC Assistant at PO Box 1335\, Durant\, OK 74702 or call 800-658-2823.
URL:https://cpcdc.org/event/virtual-training-the-perfect-customer-how-to-identify-your-target-audience
LOCATION:ONLINE
CATEGORIES:REI WBC
END:VEVENT
BEGIN:VEVENT
DTSTART;TZID=America/Chicago:20210129T140000
DTEND;TZID=America/Chicago:20210129T150000
DTSTAMP:20260419T170515
CREATED:20210114T205654Z
LAST-MODIFIED:20210114T205654Z
UID:2131-1611928800-1611932400@cpcdc.org
SUMMARY:Virtual Training: Learn The Basics of Google Ads
DESCRIPTION:Date/Time: \nJanuary 29th\, 2021\nStart Time: 2:00 pm\nEnd Time: 3:00 pm \n\n\nDESCRIPTION \nIn this workshop you will learn how to reach more customers and grow your business with Google Ads. \nIN THIS SESSION\, WE’LL SHOW YOU HOW TO\nHow to create an account and set up an ad campaign\nHow to write great ads\, refine keywords\, and include ad extensions\nHow to measure success \nPresenter: Maria Elena Duron\, Grow With Google Professional Trainer \nWorkshop is provided by REI Women’s Business Center. \nFunded in part through a cooperative agreement with the U.S. Small Business Administration. WBC and 7j programs and services are provided on a nondiscriminatory basis. Reasonable accommodations for persons with disabilities and language assistance services for clients with limited English proficiency will be provided if requested at least two weeks in advance. Contact Lori Smith\, WBC Assistant at PO Box 1335\, Durant\, OK 74702 or call 800-658-2823
URL:https://cpcdc.org/event/virtual-training-learn-the-basics-of-google-ads
LOCATION:ONLINE
CATEGORIES:Free,REI WBC
END:VEVENT
END:VCALENDAR