BEGIN:VCALENDAR
VERSION:2.0
PRODID:-//Citizen Potawatomi Community Development Corporation - ECPv6.14.2//NONSGML v1.0//EN
CALSCALE:GREGORIAN
METHOD:PUBLISH
X-ORIGINAL-URL:https://cpcdc.org
X-WR-CALDESC:Events for Citizen Potawatomi Community Development Corporation
REFRESH-INTERVAL;VALUE=DURATION:PT1H
X-Robots-Tag:noindex
X-PUBLISHED-TTL:PT1H
BEGIN:VTIMEZONE
TZID:America/Chicago
BEGIN:DAYLIGHT
TZOFFSETFROM:-0500
TZOFFSETTO:-0500
TZNAME:CDT
DTSTART:20190101T000000
END:DAYLIGHT
END:VTIMEZONE
BEGIN:VEVENT
DTSTART;TZID=America/Chicago:20191002T083000
DTEND;TZID=America/Chicago:20191002T140000
DTSTAMP:20260419T174628
CREATED:20190920T162947Z
LAST-MODIFIED:20190920T162947Z
UID:635-1570005000-1570024800@cpcdc.org
SUMMARY:Small Business Resource Fair: Starting & Growing Your Business In Enid
DESCRIPTION:Join us at this one-day event designed to support and equip those starting and growing a business in Enid. \nFor start-ups and entrepreneurs there will be sessions on:\nMarket Research and Finding Your Niche\nLocal Steps for Start-Up Success\nHow and Why to Write a Business Plan \nFor Downtown Enid Businesses there will be sessions on:\nDowntown Business Resources\nHistoric Tax Credits & Upper Floor Development\nOpportunity Zones \nFor All Attendees:\nLunch & General Session Panel on Lending\nResource Expo and Sponsor Booths \n$75 sponsorships available.  Your $75 sponsorship includes your logo on promotional materials and booth space to set up at the event from 12-2pm\, a table and two chairs will be provided.  If you provide services to small businesses this is a chance to meet potential new clients.  The audience will include small business owners and start-up entrepreneurs in the Enid area. \nPartners: Autry Technology Center\, Enid Regional Development Alliance\, Main Street Enid\, Oklahoma Department of Commerce\, and REI Women’s Business Center. \nYou will be redirected to PayPal to pay for registration. Fee is non-refundable. If you cannot attend\, your registration may be able to be transferred to another workshop.  \nFunded in part through a cooperative agreement with the U.S. Small Business Administration. WBC and PRIME programs and services are provided on a nondiscriminatory basis. Reasonable accommodations for persons with disabilities and language assistance services for clients with limited English proficiency will be provided if requested at least two weeks in advance. Contact Lori Smith\, WBC Assistant at PO Box 1335\, Durant\, OK 74702 or call 800-658-2823.
URL:https://cpcdc.org/event/small-business-resource-fair-starting-growing-your-business-in-enid
LOCATION:Autry Technology Center\, Oklahoma Room\, 1201 W. Willow\, Enid\, OK\, 73703\, United States
CATEGORIES:REI WBC
END:VEVENT
END:VCALENDAR