BEGIN:VCALENDAR
VERSION:2.0
PRODID:-//Citizen Potawatomi Community Development Corporation - ECPv6.14.2//NONSGML v1.0//EN
CALSCALE:GREGORIAN
METHOD:PUBLISH
X-WR-CALNAME:Citizen Potawatomi Community Development Corporation
X-ORIGINAL-URL:https://cpcdc.org
X-WR-CALDESC:Events for Citizen Potawatomi Community Development Corporation
REFRESH-INTERVAL;VALUE=DURATION:PT1H
X-Robots-Tag:noindex
X-PUBLISHED-TTL:PT1H
BEGIN:VTIMEZONE
TZID:America/Chicago
BEGIN:DAYLIGHT
TZOFFSETFROM:-0500
TZOFFSETTO:-0500
TZNAME:CDT
DTSTART:20190101T000000
END:DAYLIGHT
END:VTIMEZONE
BEGIN:VEVENT
DTSTART;TZID=America/Chicago:20191008T080000
DTEND;TZID=America/Chicago:20191008T093000
DTSTAMP:20260419T172042
CREATED:20190920T163706Z
LAST-MODIFIED:20190920T163706Z
UID:642-1570521600-1570527000@cpcdc.org
SUMMARY:#WBC Connects
DESCRIPTION:Discover the Power of Networking at the very first #WBC Connects.  This event will enable you to connect with countless potential customers\, build your network of business contacts and have a great opportunity to showcase your business. \nBring your business cards and join us for this exclusive networking meeting for women business owners\, professionals and small business resource partners. \nYou’ll also: \n\nConnect through interactive discussions and activities.\nLearn from other women entrepreneurs and professionals in the area.\nHear the latest in resource services for women entrepreneurs.\n\nFunded in part through a cooperative agreement with the U. S. Small Business Administration\, WBC’s\, SBA 7j\, and PRIME programs and services are provided on a nondiscriminatory basis. Reasonable accommodations for persons with disabilities and language assistance services for clients with limited English proficiency will be provided if requested at least two weeks in advance. Contact Lori Smith\, WBC Assistant or Cassidy Gilmore\, PRIME Coordinator at P.O. Box 1335\, Durant\, OK 74702 or call 800-658-2823. \n\n\n\nPrice: $0.00
URL:https://cpcdc.org/event/wbc-connects-4
LOCATION:Wagoner Chamber of Commerce\, 301 S. Grant\, Wagoner\, OK\, 74467\, United States
CATEGORIES:REI WBC
END:VEVENT
BEGIN:VEVENT
DTSTART;TZID=America/Chicago:20191008T100000
DTEND;TZID=America/Chicago:20191008T120000
DTSTAMP:20260419T172042
CREATED:20190920T164114Z
LAST-MODIFIED:20190920T164204Z
UID:647-1570528800-1570536000@cpcdc.org
SUMMARY:Budgeting and Projecting
DESCRIPTION:Budgets\, financial documents and projecting are the last thing on any entrepreneur’s mind. Rather than avoiding them\, learn the power in each document\, how to create them and ways to use them to increase your profit and lower your bottom line. \nPresenters: Sara Orellana-Paape\, 3Raptor Consulting \nPartners: Johnston County Chamber of Commerce\, Old Silo Winery\, Chickasaw Nation\, and REI Women’s Business Center. \nYou will be redirected to PayPal to pay for registration. Fee is non-refundable. If you cannot attend\, your registration may be able to be transferred to another workshop.  \nFunded in part through a cooperative agreement with the U.S. Small Business Administration. WBC and PRIME programs and services are provided on a nondiscriminatory basis. Reasonable accommodations for persons with disabilities and language assistance services for clients with limited English proficiency will be provided if requested at least two weeks in advance. Contact Lori Smith\, WBC Assistant at PO Box 1335\, Durant\, OK 74702 or call 800-658-2823. \n\n\n\nPrice: $20.00
URL:https://cpcdc.org/event/budgeting-and-projecting
LOCATION:Old Silo Winery\, 2300 East Cheadle Road\, Tishomingo\, OK\, 73460\, United States
CATEGORIES:REI WBC
ATTACH;FMTTYPE=image/jpeg:https://cpcdc.org/wp-content/uploads/2018/03/bd2.jpg
END:VEVENT
BEGIN:VEVENT
DTSTART;TZID=America/Chicago:20191008T120000
DTEND;TZID=America/Chicago:20191008T130000
DTSTAMP:20260419T172042
CREATED:20190920T164330Z
LAST-MODIFIED:20190920T164330Z
UID:650-1570536000-1570539600@cpcdc.org
SUMMARY:Lunch & Learn - Small Business Market Research Series
DESCRIPTION:Market research is essential for small businesses that wish to stay competitive.  Brush up on your secondary research skills and discover the wealth of free information available through your public library and other resources. \nWe will explore online sources and other easily accessible databases full of data that can help your business make knowledgeable decisions.  These resources will help you understand and define the market for your product or service\, find your competition\, explore demographics\, find industry benchmarks\, and keep up on industry news. \nThis series will run on 5 Tuesdays and the agenda is as follows: \nSeptember 17\nUtilize Reference USA to gather information about your customers and competitors \nSeptember 24\nCollect demographic information for your market area through American Fact Finder\nGet information about your industry throught First Research \nOctober 1\nCalculate market share \nOctober 8 \nUse Demographics Now to understand consumer spending habits and psycho-graphics of your target market \nOctober 15 \nMap customer data by creating custom Google Maps \nThe cost is $50 for the entire series\, or $15 per session and this includes lunch.  Attendees are encouraged to register online. \nPresenter: Lynn Wilson \nPartners:  IDRS\, ACORN Project\, Northeast Technology Center\, Cherokee Nation\, and REI Women’s Business Center. \nFunded in part through a cooperative agreement with the U.S. Small Business Administration. WBC and PRIME programs and services are provided on a nondiscriminatory basis. Reasonable accommodations for persons with disabilities and language assistance services for clients with limited English proficiency will be provided if requested at least two weeks in advance. Contact Lori Smith\, WBC Assistant at PO Box 1335\, Durant\, OK 74702 or call 800-658-2823.
URL:https://cpcdc.org/event/lunch-learn-small-business-market-research-series-4
LOCATION:Northeast Technology Center (NTC)\, 1901 N. Hwy 88\, Claremore\, OK\, 74017\, United States
CATEGORIES:REI WBC
END:VEVENT
BEGIN:VEVENT
DTSTART;TZID=America/Chicago:20191008T140000
DTEND;TZID=America/Chicago:20191008T160000
DTSTAMP:20260419T172042
CREATED:20190920T164522Z
LAST-MODIFIED:20190920T164522Z
UID:652-1570543200-1570550400@cpcdc.org
SUMMARY:Budgeting and Projecting
DESCRIPTION:Budgets\, financial documents and projecting are the last thing on any entrepreneur’s mind. Rather than avoiding them\, learn the power in each document\, how to create them and ways to use them to increase your profit and lower your bottom line. \nPresenters: Sara Orellana-Paape\, 3Raptor Consulting \nPartners: Sulphur Chamber of Commerce\, OKSBCD\, Southern Tech\, Chickasaw Nation\, and REI Women’s Business Center. \nYou will be redirected to PayPal to pay for registration. Fee is non-refundable. If you cannot attend\, your registration may be able to be transferred to another workshop.  \nFunded in part through a cooperative agreement with the U.S. Small Business Administration. WBC and PRIME programs and services are provided on a nondiscriminatory basis. Reasonable accommodations for persons with disabilities and language assistance services for clients with limited English proficiency will be provided if requested at least two weeks in advance. Contact Lori Smith\, WBC Assistant at PO Box 1335\, Durant\, OK 74702 or call 800-658-2823. \n\n\n\nPrice: $20.00
URL:https://cpcdc.org/event/budgeting-and-projecting-2
LOCATION:Southern Oklahoma Technology Murray County Extension Center\, 3490 Highway 7 West\, Sulphur\, OK\, 73086\, United States
CATEGORIES:REI WBC
ATTACH;FMTTYPE=image/jpeg:https://cpcdc.org/wp-content/uploads/2018/05/businesstax.jpg
END:VEVENT
END:VCALENDAR