BEGIN:VCALENDAR
VERSION:2.0
PRODID:-//Citizen Potawatomi Community Development Corporation - ECPv6.14.2//NONSGML v1.0//EN
CALSCALE:GREGORIAN
METHOD:PUBLISH
X-WR-CALNAME:Citizen Potawatomi Community Development Corporation
X-ORIGINAL-URL:https://cpcdc.org
X-WR-CALDESC:Events for Citizen Potawatomi Community Development Corporation
REFRESH-INTERVAL;VALUE=DURATION:PT1H
X-Robots-Tag:noindex
X-PUBLISHED-TTL:PT1H
BEGIN:VTIMEZONE
TZID:America/Chicago
BEGIN:DAYLIGHT
TZOFFSETFROM:-0500
TZOFFSETTO:-0500
TZNAME:CDT
DTSTART:20200101T000000
END:DAYLIGHT
END:VTIMEZONE
BEGIN:VEVENT
DTSTART;TZID=America/Chicago:20200723T100000
DTEND;TZID=America/Chicago:20200723T113000
DTSTAMP:20260419T172020
CREATED:20200626T152025Z
LAST-MODIFIED:20200626T152025Z
UID:1606-1595498400-1595503800@cpcdc.org
SUMMARY:Virtual Training: Business Tax Basics & Ask the Expert
DESCRIPTION:Join us to view an informative video presentation from the Oklahoma Tax Commission\, which offers detailed information on: business formation\, business structures\, sales tax exemption\, new business registration in Oklahoma and explanation of the primary business tax forms.  Following the video\, we’ll hear from Savannah Dixon of Vann Dixon\, CPA who will provide further information on small business tax concerns and answer any specific questions from participants. \nProvided by REI Women’s Business Center. \nThank you for registering for a WBC workshop. We look forward to connecting with you! \nThis workshop will be conducted online using ZOOM Meeting. Prior to the start of the workshop\, you will be emailed instructions for logging into the meeting. If you opt to call in to the number provided\, you will be unable to “see” all the features\, but will be able to hear the webinar. If possible\, we encourage you to take full advantage of the interactive training by using the link provided in the registration confirmation email you will receive prior to the training to join us “in person” using your phone or computer’s camera. \nFunded in part through a cooperative agreement with the U.S. Small Business Administration. WBC and 7j programs and services are provided on a nondiscriminatory basis. Reasonable accommodations for persons with disabilities and language assistance services for clients with limited English proficiency will be provided if requested at least two weeks in advance. Contact Lori Smith\, WBC Assistant at PO Box 1335\, Durant\, OK 74702 or call 800-658-2823.
URL:https://cpcdc.org/event/virtual-training-business-tax-basics-ask-the-expert-2
LOCATION:ONLINE
CATEGORIES:Free,REI WBC,Shawnee Business
ATTACH;FMTTYPE=image/jpeg:https://cpcdc.org/wp-content/uploads/2018/05/businesstax.jpg
END:VEVENT
BEGIN:VEVENT
DTSTART;TZID=America/Chicago:20200723T130000
DTEND;TZID=America/Chicago:20200723T150000
DTSTAMP:20260419T172020
CREATED:20200712T004406Z
LAST-MODIFIED:20200712T004406Z
UID:1630-1595509200-1595516400@cpcdc.org
SUMMARY:Virtual Training: Understanding SBA's HUBZone Certification
DESCRIPTION:If you are interested in selling your supplies or services to federal agencies you should learn about the SBA’s HUBZone certification.  Joining the HUBZone program makes your business eligible to compete for the program’s set-aside contracts.  The HUBZone program encourages economic development and employment growth in HUBZone areas by providing increased access to those set-aside federal contracting opportunities. \nPresenter: Ron DeGiacomo\, OkPTAC Coordinator \nFunded in part through a cooperative agreement with the U.S. Small Business Administration. WBC and 7j programs and services are provided on a nondiscriminatory basis. Reasonable accommodations for persons with disabilities and language assistance services for clients with limited English proficiency will be provided if requested at least two weeks in advance. Contact Lori Smith\, WBC Assistant at PO Box 1335\, Durant\, OK 74702 or call 800-658-2823
URL:https://cpcdc.org/event/virtual-training-understanding-sbas-hubzone-certification
LOCATION:ONLINE
CATEGORIES:Free,Online,REI WBC,Shawnee Business
ATTACH;FMTTYPE=image/png:https://cpcdc.org/wp-content/uploads/2020/07/HubZone-logo-round.png
END:VEVENT
END:VCALENDAR