BEGIN:VCALENDAR
VERSION:2.0
PRODID:-//Citizen Potawatomi Community Development Corporation - ECPv6.14.2//NONSGML v1.0//EN
CALSCALE:GREGORIAN
METHOD:PUBLISH
X-ORIGINAL-URL:https://cpcdc.org
X-WR-CALDESC:Events for Citizen Potawatomi Community Development Corporation
REFRESH-INTERVAL;VALUE=DURATION:PT1H
X-Robots-Tag:noindex
X-PUBLISHED-TTL:PT1H
BEGIN:VTIMEZONE
TZID:America/Chicago
BEGIN:DAYLIGHT
TZOFFSETFROM:-0500
TZOFFSETTO:-0500
TZNAME:CDT
DTSTART:20200101T000000
END:DAYLIGHT
END:VTIMEZONE
BEGIN:VEVENT
DTSTART;TZID=America/Chicago:20200827T100000
DTEND;TZID=America/Chicago:20200827T110000
DTSTAMP:20260422T100815
CREATED:20200825T141008Z
LAST-MODIFIED:20200825T141008Z
UID:1745-1598522400-1598526000@cpcdc.org
SUMMARY:Virtual Training: All About SBA & Available Resources
DESCRIPTION:Small businesses could use support and resources more than ever before.  In this session we’ll learn about offerings available through the U.S. Small Business Administration\, local Chambers of Commerce and REI Women’s Business Center.  From online tutorials to databases to free trainings- we’re excited to share resources to help you start\, sustain\, and grow your business! \nWe’ll have plenty of time for Q&A with the presenters at the end of the session\, so come ready with your questions! \nFunded in part through a cooperative agreement with the U.S. Small Business Administration. WBC and 7j programs and services are provided on a nondiscriminatory basis. Reasonable accommodations for persons with disabilities and language assistance services for clients with limited English proficiency will be provided if requested at least two weeks in advance. Contact Lori Smith\, WBC Assistant at PO Box 1335\, Durant\, OK 74702 or call 800-658-2823.
URL:https://cpcdc.org/event/virtual-training-all-about-sba-available-resources
LOCATION:ONLINE
CATEGORIES:Free,Online,REI WBC,Shawnee,Shawnee Business
ATTACH;FMTTYPE=image/jpeg:https://cpcdc.org/wp-content/uploads/2020/04/SBA.jpg
END:VEVENT
BEGIN:VEVENT
DTSTART;TZID=America/Chicago:20200827T120000
DTEND;TZID=America/Chicago:20200827T140000
DTSTAMP:20260422T100815
CREATED:20200722T192959Z
LAST-MODIFIED:20200722T192959Z
UID:1676-1598529600-1598536800@cpcdc.org
SUMMARY:Robbing Peter to Pay Paul: Cash Flow Nightmares
DESCRIPTION:The number one issue facing most small business owners is cash flow!  This workshop is designed to learn strategies to manage cash flow…and making sure that cash flow doesn’t manage YOU!  We will review sample issues facing small business and discuss ways to help alleviate your financial stress.  So\, bring your lunch\, ideas\, and ready to share attitude to this interactive workshop. \nPresenters: Jack Hedrick-Lightfoot \nFunded in part through a cooperative agreement with the U.S. Small Business Administration. WBC and 7j programs and services are provided on a nondiscriminatory basis. Reasonable accommodations for persons with disabilities and language assistance services for clients with limited English proficiency will be provided if requested at least two weeks in advance. Contact Lori Smith\, WBC Assistant at PO Box 1335\, Durant\, OK 74702 or call 800-658-2823.
URL:https://cpcdc.org/event/robbing-peter-to-pay-paul-cash-flow-nightmares
LOCATION:ONLINE
CATEGORIES:Free,Online,REI WBC,Shawnee Business
ATTACH;FMTTYPE=image/jpeg:https://cpcdc.org/wp-content/uploads/2020/07/coins-912718_1920.jpg
END:VEVENT
END:VCALENDAR