BEGIN:VCALENDAR
VERSION:2.0
PRODID:-//Citizen Potawatomi Community Development Corporation - ECPv6.14.2//NONSGML v1.0//EN
CALSCALE:GREGORIAN
METHOD:PUBLISH
X-WR-CALNAME:Citizen Potawatomi Community Development Corporation
X-ORIGINAL-URL:https://cpcdc.org
X-WR-CALDESC:Events for Citizen Potawatomi Community Development Corporation
REFRESH-INTERVAL;VALUE=DURATION:PT1H
X-Robots-Tag:noindex
X-PUBLISHED-TTL:PT1H
BEGIN:VTIMEZONE
TZID:America/Chicago
BEGIN:DAYLIGHT
TZOFFSETFROM:-0500
TZOFFSETTO:-0500
TZNAME:CDT
DTSTART:20200101T000000
END:DAYLIGHT
END:VTIMEZONE
BEGIN:VEVENT
DTSTART;TZID=America/Chicago:20200922T100000
DTEND;TZID=America/Chicago:20200922T113000
DTSTAMP:20260419T154224
CREATED:20200825T170345Z
LAST-MODIFIED:20200825T170345Z
UID:1760-1600768800-1600774200@cpcdc.org
SUMMARY:Excel: Introduction to Formulas & Functions
DESCRIPTION:This session covers the basics of functions and formulas in Excel.  Participants will learn the keys to error-free formula entry\, how to edit a worksheet\, how to use functions like Sum and Average\, and working with Autoformat and Autocomplete. The presenter will also include tips for efficiently creating large sheets using the Autofill and Autosum features of Excel. \nWe’ll have plenty of time for Q&A with the presenter at the end of the session! \nPresenters: Chris Hennes with the Pioneer Library System \nPartners: Pioneer Library System and REI Women’s Business Center\, \nFunded in part through a cooperative agreement with the U.S. Small Business Administration. WBC and 7j programs and services are provided on a nondiscriminatory basis. Reasonable accommodations for persons with disabilities and language assistance services for clients with limited English proficiency will be provided if requested at least two weeks in advance. Contact Lori Smith\, WBC Assistant at PO Box 1335\, Durant\, OK 74702 or call 800-658-2823.
URL:https://cpcdc.org/event/excel-introduction-to-formulas-functions
LOCATION:ONLINE
CATEGORIES:Free,Online,REI WBC,Shawnee,Shawnee Business
ATTACH;FMTTYPE=image/jpeg:https://cpcdc.org/wp-content/uploads/2020/08/notebook-1850613_1920-e1598371989642.jpg
END:VEVENT
BEGIN:VEVENT
DTSTART;TZID=America/Chicago:20200922T113000
DTEND;TZID=America/Chicago:20200922T130000
DTSTAMP:20260419T154224
CREATED:20200918T150000Z
LAST-MODIFIED:20200918T150000Z
UID:1812-1600774200-1600779600@cpcdc.org
SUMMARY:Enid Women in Business: Communicating Like a Boss
DESCRIPTION:Join us for the next Enid Women in Business event!  This virtual time together will provide an opportunity to learn\, promote leadership\, share resources\, and encourage each other. \nThis quarter’s topic: Communicating Like a Boss \nWhen we know how to communicate in such a way that our message can be heard\, we have the opportunity to move forward in our careers and life.  In our time together we will look at ways to effectively communicate our message. \nThis workshop will be conducted online using ZOOM Meeting. Prior to the start of the workshop\, you will be emailed instructions for logging into the meeting. If you opt to call in to the number provided\, you will be unable to “see” all the features\, but will be able to hear the webinar. If possible\, we encourage you to take full advantage of the interactive training by using the link provided in the registration confirmation email you will receive prior to the training to join us “in person” using your phone or computer’s camera. \nSpeaker:  Lissa Qualls\, owner of Clarity OK\, has a unique way of teaching how to “Communicate Like a Boss”.  For over 20 years\, Lissa served as a trainer for Youth for Christ USA and International\, training staff\, National Directors and National Board of Trustees throughout the world.  She has also worked with CEO’s\, managers\, leadership teams and entire companies each time helping them to better understand how they show up and how to better communicate with each other. \nPartners: Autry Technology Center\, Strate Center for Business Development\, Enid Regional Development Alliance\, Hive Appeal\, Main Street Enid\, Northern Oklahoma College\, and REI Women’s Business Center. \nFunded in part through a cooperative agreement with the U.S. Small Business Administration. WBC and 7j programs and services are provided on a nondiscriminatory basis. Reasonable accommodations for persons with disabilities and language assistance services for clients with limited English proficiency will be provided if requested at least two weeks in advance. Contact Lori Smith\, WBC Assistant at PO Box 1335\, Durant\, OK 74702 or call 800-658-2823.
URL:https://cpcdc.org/event/enid-women-in-business-communicating-like-a-boss
LOCATION:ONLINE
CATEGORIES:Free,Online,REI WBC
ATTACH;FMTTYPE=image/jpeg:https://cpcdc.org/wp-content/uploads/2020/06/business-woman-3627087_1920.jpg
END:VEVENT
END:VCALENDAR