BEGIN:VCALENDAR
VERSION:2.0
PRODID:-//Citizen Potawatomi Community Development Corporation - ECPv6.14.2//NONSGML v1.0//EN
CALSCALE:GREGORIAN
METHOD:PUBLISH
X-WR-CALNAME:Citizen Potawatomi Community Development Corporation
X-ORIGINAL-URL:https://cpcdc.org
X-WR-CALDESC:Events for Citizen Potawatomi Community Development Corporation
REFRESH-INTERVAL;VALUE=DURATION:PT1H
X-Robots-Tag:noindex
X-PUBLISHED-TTL:PT1H
BEGIN:VTIMEZONE
TZID:America/Chicago
BEGIN:DAYLIGHT
TZOFFSETFROM:-0500
TZOFFSETTO:-0500
TZNAME:CDT
DTSTART:20200101T000000
END:DAYLIGHT
END:VTIMEZONE
BEGIN:VEVENT
DTSTART;TZID=America/Chicago:20200707T100000
DTEND;TZID=America/Chicago:20200707T113000
DTSTAMP:20260422T094952
CREATED:20200623T191612Z
LAST-MODIFIED:20200623T191612Z
UID:1563-1594116000-1594121400@cpcdc.org
SUMMARY:Virtual Training: Introduction to Google Ads
DESCRIPTION:Join us for an introduction to Google Ads.  In this free\, virtual session you’ll learn how Google Ads can be designed to grow your business.  We’ll cover: \nWhat they are and how they work\nHow to create\, maintain\, and manage them\nTips and strategies for getting great results\nWe’ll have plenty of time for Q&A with the instructor at the end of the session\, so come ready with your questions! \nPresenter: Stephen Koranda\, CDME\, CTA\, is a 20-plus year marketing professional. \nKoranda is Principal and Sr. Consultant for Back To You Marketing\, a marketing agency and tourism consultancy firm based in Norman\, Oklahoma\, that counsels small businesses on their marketing initiatives to grow their business. Koranda speaks regularly on marketing\, sales\, social media\, email marketing\, and customer service. Koranda is the Authorized Local Expert for Constant Contact\, the email service provider and marketing toolkit. \nIf you have not done so already\, please take a few minutes to fill out our Business Assessment Form here https://reiwbc.org/business-assessment-form/\, and you will then receive the Zoom training link. This is *extra* important during this time because it helps us justify our federal funding.  We appreciate you taking a minute to complete it! \nFunded in part through a cooperative agreement with the U.S. Small Business Administration. WBC and 7j programs and services are provided on a nondiscriminatory basis. Reasonable accommodations for persons with disabilities and language assistance services for clients with limited English proficiency will be provided if requested at least two weeks in advance. Contact Lori Smith\, WBC Assistant at PO Box 1335\, Durant\, OK 74702 or call 800-658-2823.
URL:https://cpcdc.org/event/virtual-training-introduction-to-google-ads-2
LOCATION:ONLINE
CATEGORIES:Free,Online,REI WBC,Shawnee Business
ATTACH;FMTTYPE=image/png:https://cpcdc.org/wp-content/uploads/2020/06/google-ads.png
END:VEVENT
END:VCALENDAR