BEGIN:VCALENDAR
VERSION:2.0
PRODID:-//Citizen Potawatomi Community Development Corporation - ECPv6.14.2//NONSGML v1.0//EN
CALSCALE:GREGORIAN
METHOD:PUBLISH
X-WR-CALNAME:Citizen Potawatomi Community Development Corporation
X-ORIGINAL-URL:https://cpcdc.org
X-WR-CALDESC:Events for Citizen Potawatomi Community Development Corporation
REFRESH-INTERVAL;VALUE=DURATION:PT1H
X-Robots-Tag:noindex
X-PUBLISHED-TTL:PT1H
BEGIN:VTIMEZONE
TZID:America/Chicago
BEGIN:DAYLIGHT
TZOFFSETFROM:-0500
TZOFFSETTO:-0500
TZNAME:CDT
DTSTART:20200101T000000
END:DAYLIGHT
END:VTIMEZONE
BEGIN:VEVENT
DTSTART;TZID=America/Chicago:20200709T100000
DTEND;TZID=America/Chicago:20200709T120000
DTSTAMP:20260422T100705
CREATED:20200623T192102Z
LAST-MODIFIED:20200623T195216Z
UID:1565-1594288800-1594296000@cpcdc.org
SUMMARY:Engaging Your Audience On Social Media
DESCRIPTION:Effectively communicating with your target audience on social media is more important than ever. In order to attract the right audience\, you must understand what your target audience is looking for and what hole in the market you are currently filling. Gain the tools needed to engage with your choice audience increasing your social media presence and increasing your sales. \nPresenters: Sara Orellana-Paape\, 3Raptor Consulting \nIf you have not done so already\, please take a few minutes to fill out our Business Assessment Form here https://reiwbc.org/business-assessment-form/\, and you will then receive the Zoom training link. This is *extra* important during this time because it helps us justify our federal funding.  We appreciate you taking a minute to complete it! \nFunded in part through a cooperative agreement with the U.S. Small Business Administration. WBC and 7j programs and services are provided on a nondiscriminatory basis. Reasonable accommodations for persons with disabilities and language assistance services for clients with limited English proficiency will be provided if requested at least two weeks in advance. Contact Lori Smith\, WBC Assistant at PO Box 1335\, Durant\, OK 74702 or call 800-658-2823.
URL:https://cpcdc.org/event/engaging-your-audience-on-social-media
LOCATION:ONLINE
CATEGORIES:Free,Marketing,Online,REI WBC,Shawnee Business
ATTACH;FMTTYPE=image/jpeg:https://cpcdc.org/wp-content/uploads/2018/04/nottheterminator.jpg
END:VEVENT
END:VCALENDAR