BEGIN:VCALENDAR
VERSION:2.0
PRODID:-//Citizen Potawatomi Community Development Corporation - ECPv6.14.2//NONSGML v1.0//EN
CALSCALE:GREGORIAN
METHOD:PUBLISH
X-WR-CALNAME:Citizen Potawatomi Community Development Corporation
X-ORIGINAL-URL:https://cpcdc.org
X-WR-CALDESC:Events for Citizen Potawatomi Community Development Corporation
REFRESH-INTERVAL;VALUE=DURATION:PT1H
X-Robots-Tag:noindex
X-PUBLISHED-TTL:PT1H
BEGIN:VTIMEZONE
TZID:America/Chicago
BEGIN:DAYLIGHT
TZOFFSETFROM:-0500
TZOFFSETTO:-0500
TZNAME:CDT
DTSTART:20200101T000000
END:DAYLIGHT
END:VTIMEZONE
BEGIN:VEVENT
DTSTART;TZID=America/Chicago:20201007T150000
DTEND;TZID=America/Chicago:20201007T163000
DTSTAMP:20260422T112207
CREATED:20200918T195849Z
LAST-MODIFIED:20200918T195849Z
UID:1843-1602082800-1602088200@cpcdc.org
SUMMARY:GROWTHWHEEL BUSINESS SERIES: PART 2 - HIRE THE BEST AND AVOID THE REST
DESCRIPTION:Facilitated by Cameron – CETES Small Business Development Center \nTopic: Managing Employees \nPlease join us as we discuss “Hiring the Best and Avoid the Rest”\, PART 2.  This will be a four-part Growth Wheel series focusing on recruiting\, hiring\, on-boarding and retaining quality employees.  During Part 2\, we will drill discuss the on-boarding and training process.  Attendees will obtain a copy of the presentation and walk away with valuable GrowthWheel tools to help them implement today’s topics covered. \nSpeaker(s): Dr. Samantha Lankford\, OKSBDC/Cameron University – Director – Center for Emerging Technology and Entrepreneurial Studies (CETES)\nDana Hugle\, OKSBDC Eastern Center Director and Business Development Specialist \nCo-Sponsor(s):  Cameron University \nFee: No Cost
URL:https://cpcdc.org/event/growthwheel-business-series-part-2-hire-the-best-and-avoid-the-rest
LOCATION:ONLINE
CATEGORIES:Free,Oklahoma Small Business Development Centers,Online,Shawnee Business
ATTACH;FMTTYPE=image/jpeg:https://cpcdc.org/wp-content/uploads/2020/09/hiring-1977803_1920.jpg
END:VEVENT
END:VCALENDAR