BEGIN:VCALENDAR
VERSION:2.0
PRODID:-//Citizen Potawatomi Community Development Corporation - ECPv6.14.2//NONSGML v1.0//EN
CALSCALE:GREGORIAN
METHOD:PUBLISH
X-WR-CALNAME:Citizen Potawatomi Community Development Corporation
X-ORIGINAL-URL:https://cpcdc.org
X-WR-CALDESC:Events for Citizen Potawatomi Community Development Corporation
REFRESH-INTERVAL;VALUE=DURATION:PT1H
X-Robots-Tag:noindex
X-PUBLISHED-TTL:PT1H
BEGIN:VTIMEZONE
TZID:America/Chicago
BEGIN:DAYLIGHT
TZOFFSETFROM:-0500
TZOFFSETTO:-0500
TZNAME:CDT
DTSTART:20200101T000000
END:DAYLIGHT
END:VTIMEZONE
BEGIN:VEVENT
DTSTART;TZID=America/Chicago:20201020T120000
DTEND;TZID=America/Chicago:20201020T130000
DTSTAMP:20260422T100117
CREATED:20200918T215241Z
LAST-MODIFIED:20200918T215241Z
UID:1872-1603195200-1603198800@cpcdc.org
SUMMARY:Increase Your Sales with Online Reviews
DESCRIPTION:90% of people claim that positive reviews influence their purchasing decisions. Do you know how your business appears online? \nJoin Deluxe product experts\, Joann Do and Cortney Vargas\, as they outline actionable strategies to increase sales and influence customers by increasing online reviews. \nIn this webinar\, you’ll learn:\nWhere customers might be reviewing your business and how to monitor comments\, questions\, and complaints\nThe benefits of getting more reviews\nHow to gather reviews from happy customers\nHow to respond to criticism so that customers feel heard\nHow to use online reviews to improve your product or service\nPresented by: Cortney Vargas \nIn Cortney’s 14 years in Marketing\, she has honed a wide repertoire of skills around digital marketing\, interactive strategy and product management. Loving the challenge of translating large corporate solutions into Main St.’s small business opportunity\, Cortney has worked with a vast range of business sizes from 1 employee to 10\,000+ team members. Her curiosity leads her to the forefront of new marketing technology\, \nwhile her passion for helping small businesses drives her to convert her new experience to products Mom and Pop Shops can use today. Anywhere she is needed from creative development\, website operations\, product management and collaborating effectively with stakeholders\, vendors and clients\, she’s there. She even once took a pie to the face for a good cause!  She does it all! \nPresented by: Joanne Do \nJoann has six years of experience in planning and implementing digital marketing strategies with a wide range of clients to increase revenue through Search Engine Optimization\, Pay-Per-Click\, Social Media\, content strategy and website development. \nIn her current role at Deluxe\, she leverages her extensive experience and knowledge to create affordable digital marketing solutions for small business owners to grow regardless of where they are at in their business journey. \n She has previously worked with some big brands such as Hard Rock Casino\, Dairy Queen\, Marie Callender’s\, Papa Murphy’s Pizza and Olathe Health\, as well as small businesses like AAPC Publishing and Champion Termite & Pest Control. \nSponsored by: Deluxe Corporation
URL:https://cpcdc.org/event/increase-your-sales-with-online-reviews
LOCATION:ONLINE
CATEGORIES:Free,Online,SCORE,Shawnee Business
ATTACH;FMTTYPE=image/jpeg:https://cpcdc.org/wp-content/uploads/2020/09/growth-4822683_1920.jpg
END:VEVENT
END:VCALENDAR