BEGIN:VCALENDAR
VERSION:2.0
PRODID:-//Citizen Potawatomi Community Development Corporation - ECPv6.14.2//NONSGML v1.0//EN
CALSCALE:GREGORIAN
METHOD:PUBLISH
X-ORIGINAL-URL:https://cpcdc.org
X-WR-CALDESC:Events for Citizen Potawatomi Community Development Corporation
REFRESH-INTERVAL;VALUE=DURATION:PT1H
X-Robots-Tag:noindex
X-PUBLISHED-TTL:PT1H
BEGIN:VTIMEZONE
TZID:America/Chicago
BEGIN:DAYLIGHT
TZOFFSETFROM:-0500
TZOFFSETTO:-0500
TZNAME:CDT
DTSTART:20210101T000000
END:DAYLIGHT
END:VTIMEZONE
BEGIN:VEVENT
DTSTART;TZID=America/Chicago:20210112T090000
DTEND;TZID=America/Chicago:20210112T110000
DTSTAMP:20260422T085600
CREATED:20201211T162954Z
LAST-MODIFIED:20201211T162954Z
UID:1993-1610442000-1610449200@cpcdc.org
SUMMARY:Virtual Event: Budgeting and Projecting
DESCRIPTION:Budgets\, financial documents and projecting are the last thing on any entrepreneur’s mind. Rather than avoiding them\, learn the power in each document\, how to create them and ways to use them to increase your profit and lower your bottom line. \nPresenters: Sara Orellana-Paape\, 3Raptor Consulting \nWorkshop Provided by: REI Women’s Business Center \nFunded in part through a cooperative agreement with the U.S. Small Business Administration. WBC and 7j programs and services are provided on a nondiscriminatory basis. Reasonable accommodations for persons with disabilities and language assistance services for clients with limited English proficiency will be provided if requested at least two weeks in advance. Contact Lori Smith\, WBC Assistant at PO Box 1335\, Durant\, OK 74702 or call 800-658-2823.
URL:https://cpcdc.org/event/virtual-event-budgeting-and-projecting
LOCATION:ONLINE
END:VEVENT
END:VCALENDAR